BEGIN:VCALENDAR
VERSION:2.0
PRODID:-//EnviroHub Bay of Plenty - ECPv6.15.20//NONSGML v1.0//EN
CALSCALE:GREGORIAN
METHOD:PUBLISH
X-WR-CALNAME:EnviroHub Bay of Plenty
X-ORIGINAL-URL:https://envirohub.org.nz
X-WR-CALDESC:Events for EnviroHub Bay of Plenty
REFRESH-INTERVAL;VALUE=DURATION:PT1H
X-Robots-Tag:noindex
X-PUBLISHED-TTL:PT1H
BEGIN:VTIMEZONE
TZID:Pacific/Auckland
BEGIN:STANDARD
TZOFFSETFROM:+1300
TZOFFSETTO:+1200
TZNAME:NZST
DTSTART:20220402T140000
END:STANDARD
BEGIN:DAYLIGHT
TZOFFSETFROM:+1200
TZOFFSETTO:+1300
TZNAME:NZDT
DTSTART:20220924T140000
END:DAYLIGHT
BEGIN:STANDARD
TZOFFSETFROM:+1300
TZOFFSETTO:+1200
TZNAME:NZST
DTSTART:20230401T140000
END:STANDARD
BEGIN:DAYLIGHT
TZOFFSETFROM:+1200
TZOFFSETTO:+1300
TZNAME:NZDT
DTSTART:20230923T140000
END:DAYLIGHT
BEGIN:STANDARD
TZOFFSETFROM:+1300
TZOFFSETTO:+1200
TZNAME:NZST
DTSTART:20240406T140000
END:STANDARD
BEGIN:DAYLIGHT
TZOFFSETFROM:+1200
TZOFFSETTO:+1300
TZNAME:NZDT
DTSTART:20240928T140000
END:DAYLIGHT
END:VTIMEZONE
BEGIN:VEVENT
DTSTART;TZID=Pacific/Auckland:20230314T103000
DTEND;TZID=Pacific/Auckland:20230314T123000
DTSTAMP:20260424T115451
CREATED:20230301T234456Z
LAST-MODIFIED:20230301T234522Z
UID:7798-1678789800-1678797000@envirohub.org.nz
SUMMARY:Yoga for heart health
DESCRIPTION:Connect to your heart & open your chest space with this yoga practice dedicated to longevity! \nWest End Ohope opposite number 57 on the grass. Ample parking available. Please bring your own mat and important to note this is weather dependent. \n$5 or Koha upon entry.
URL:https://envirohub.org.nz/event/yoga-for-heart-health/
LOCATION:Yoga Ohope\, West End\, Ohope grass reserve between numbers 45 & 47\, Whakatane\, Bay of Plenty
CATEGORIES:Sustainable Backyards
END:VEVENT
END:VCALENDAR