BEGIN:VCALENDAR
VERSION:2.0
PRODID:-//EnviroHub Bay of Plenty - ECPv6.15.20//NONSGML v1.0//EN
CALSCALE:GREGORIAN
METHOD:PUBLISH
X-WR-CALNAME:EnviroHub Bay of Plenty
X-ORIGINAL-URL:https://envirohub.org.nz
X-WR-CALDESC:Events for EnviroHub Bay of Plenty
REFRESH-INTERVAL;VALUE=DURATION:PT1H
X-Robots-Tag:noindex
X-PUBLISHED-TTL:PT1H
BEGIN:VTIMEZONE
TZID:Pacific/Auckland
BEGIN:STANDARD
TZOFFSETFROM:+1300
TZOFFSETTO:+1200
TZNAME:NZST
DTSTART:20240406T140000
END:STANDARD
BEGIN:DAYLIGHT
TZOFFSETFROM:+1200
TZOFFSETTO:+1300
TZNAME:NZDT
DTSTART:20240928T140000
END:DAYLIGHT
BEGIN:STANDARD
TZOFFSETFROM:+1300
TZOFFSETTO:+1200
TZNAME:NZST
DTSTART:20250405T140000
END:STANDARD
BEGIN:DAYLIGHT
TZOFFSETFROM:+1200
TZOFFSETTO:+1300
TZNAME:NZDT
DTSTART:20250927T140000
END:DAYLIGHT
BEGIN:STANDARD
TZOFFSETFROM:+1300
TZOFFSETTO:+1200
TZNAME:NZST
DTSTART:20260404T140000
END:STANDARD
BEGIN:DAYLIGHT
TZOFFSETFROM:+1200
TZOFFSETTO:+1300
TZNAME:NZDT
DTSTART:20260926T140000
END:DAYLIGHT
END:VTIMEZONE
BEGIN:VEVENT
DTSTART;TZID=Pacific/Auckland:20250814T000000
DTEND;TZID=Pacific/Auckland:20250814T000000
DTSTAMP:20260426T134935
CREATED:20250723T001714Z
LAST-MODIFIED:20250723T001714Z
UID:18331-1755129600-1755129600@envirohub.org.nz
SUMMARY:Women's Health - Tauranga Herb Society
DESCRIPTION:Come along and find out about Women’s Health! \nWesley Church Hall \nFor more information: tgaherbsoc@gmail.com for more information
URL:https://envirohub.org.nz/event/womens-health-tauranga-herb-society/
LOCATION:Wesley Church Hall\, 100\, Thirteenth Avenue\, Tauranga\, 3110\, New Zealand
ATTACH;FMTTYPE=image/png:https://envirohub.org.nz/wp-content/uploads/2025/07/Tga-Herb-Society-1.png
ORGANIZER;CN="Tauranga Herb Society":MAILTO:tgaherbsoc@gmail.com
END:VEVENT
END:VCALENDAR