BEGIN:VCALENDAR
VERSION:2.0
PRODID:-//EnviroHub Bay of Plenty - ECPv6.15.14//NONSGML v1.0//EN
CALSCALE:GREGORIAN
METHOD:PUBLISH
X-WR-CALNAME:EnviroHub Bay of Plenty
X-ORIGINAL-URL:https://envirohub.org.nz
X-WR-CALDESC:Events for EnviroHub Bay of Plenty
REFRESH-INTERVAL;VALUE=DURATION:PT1H
X-Robots-Tag:noindex
X-PUBLISHED-TTL:PT1H
BEGIN:VTIMEZONE
TZID:Pacific/Auckland
BEGIN:STANDARD
TZOFFSETFROM:+1300
TZOFFSETTO:+1200
TZNAME:NZST
DTSTART:20230401T140000
END:STANDARD
BEGIN:DAYLIGHT
TZOFFSETFROM:+1200
TZOFFSETTO:+1300
TZNAME:NZDT
DTSTART:20230923T140000
END:DAYLIGHT
BEGIN:STANDARD
TZOFFSETFROM:+1300
TZOFFSETTO:+1200
TZNAME:NZST
DTSTART:20240406T140000
END:STANDARD
BEGIN:DAYLIGHT
TZOFFSETFROM:+1200
TZOFFSETTO:+1300
TZNAME:NZDT
DTSTART:20240928T140000
END:DAYLIGHT
BEGIN:STANDARD
TZOFFSETFROM:+1300
TZOFFSETTO:+1200
TZNAME:NZST
DTSTART:20250405T140000
END:STANDARD
BEGIN:DAYLIGHT
TZOFFSETFROM:+1200
TZOFFSETTO:+1300
TZNAME:NZDT
DTSTART:20250927T140000
END:DAYLIGHT
END:VTIMEZONE
BEGIN:VEVENT
DTSTART;TZID=Pacific/Auckland:20240530T173000
DTEND;TZID=Pacific/Auckland:20240530T193000
DTSTAMP:20260420T232117
CREATED:20240418T015837Z
LAST-MODIFIED:20240418T015837Z
UID:12317-1717090200-1717097400@envirohub.org.nz
SUMMARY:Winter Clothes Swap
DESCRIPTION:Come and join us for a Winter Clothes Swap as part of this year’s Sustainable Textiles programme!\nThe Sustainable Textiles programme consists of events and competitions to help better connect you to the clothes you wear and understand their impact on the planet.\n\nWhen: 5:30 pm\, Thursday\, May 30thWhere: Envirohub BOP\, 31B Glasgow Street\, Tauranga\, 3110Tickets: https://events.humanitix.com/winter-clothes-swap-659yxvla This is a FREE event to attend\, please register online.\nFor more details and to reserve your spot click here: https://events.humanitix.com/winter-clothes-swap-659yxvla
URL:https://envirohub.org.nz/event/winter-clothes-swap/
LOCATION:Envirohub BOP\, 31B Glasgow Street\, Tauranga\, 3110\, New Zealand
CATEGORIES:Sustainable Textiles
ATTACH;FMTTYPE=image/png:https://envirohub.org.nz/wp-content/uploads/2024/04/Website-Events-Template-32.png
ORGANIZER;CN="Envirohub":MAILTO:admin@envirohub.org.nz
END:VEVENT
END:VCALENDAR