BEGIN:VCALENDAR
VERSION:2.0
PRODID:-//EnviroHub Bay of Plenty - ECPv6.15.20//NONSGML v1.0//EN
CALSCALE:GREGORIAN
METHOD:PUBLISH
X-WR-CALNAME:EnviroHub Bay of Plenty
X-ORIGINAL-URL:https://envirohub.org.nz
X-WR-CALDESC:Events for EnviroHub Bay of Plenty
REFRESH-INTERVAL;VALUE=DURATION:PT1H
X-Robots-Tag:noindex
X-PUBLISHED-TTL:PT1H
BEGIN:VTIMEZONE
TZID:Pacific/Auckland
BEGIN:STANDARD
TZOFFSETFROM:+1300
TZOFFSETTO:+1200
TZNAME:NZST
DTSTART:20220402T140000
END:STANDARD
BEGIN:DAYLIGHT
TZOFFSETFROM:+1200
TZOFFSETTO:+1300
TZNAME:NZDT
DTSTART:20220924T140000
END:DAYLIGHT
BEGIN:STANDARD
TZOFFSETFROM:+1300
TZOFFSETTO:+1200
TZNAME:NZST
DTSTART:20230401T140000
END:STANDARD
BEGIN:DAYLIGHT
TZOFFSETFROM:+1200
TZOFFSETTO:+1300
TZNAME:NZDT
DTSTART:20230923T140000
END:DAYLIGHT
BEGIN:STANDARD
TZOFFSETFROM:+1300
TZOFFSETTO:+1200
TZNAME:NZST
DTSTART:20240406T140000
END:STANDARD
BEGIN:DAYLIGHT
TZOFFSETFROM:+1200
TZOFFSETTO:+1300
TZNAME:NZDT
DTSTART:20240928T140000
END:DAYLIGHT
END:VTIMEZONE
BEGIN:VEVENT
DTSTART;TZID=Pacific/Auckland:20230330T180000
DTEND;TZID=Pacific/Auckland:20230330T200000
DTSTAMP:20260424T023643
CREATED:20230219T020420Z
LAST-MODIFIED:20230219T020420Z
UID:7513-1680199200-1680206400@envirohub.org.nz
SUMMARY:"Waste-ed" with Kate Meads
DESCRIPTION:The world is not going to stop producing\, waste is never going away\, and we are never going to get “back” to how it was before. \nThe question is… Why do we have a waste issue? Can we continue to think it is not our problem? Or will you take the challenge and change one small thing to make a difference? \nIn this time of consumerism and climate chaos\, we are facing some big challenges. \nIn order to turn back the clock\, even just a fraction\, we need to do something… but what is it and where do we start? We start with doing ONE thing! \nThis event is not just about learning what the issues are and what we need to DO to change the outcome\, it’s about BECOMING part of the solution by simply doing something. \nYou have nothing to lose and everything to gain… so join Kate for a night of powerful inspiration and motivation. \n“Kate does not preach she inspires. I learned so much and she made me realize there is no need to be perfect we just need to all do something” \nTicket price – $17\, get a Goodie Bag worth $60 (Check out the pic to see what you can get!)\nWhat’s in the free tool kit? – Check out the picture for an example of the cool pack you get from the council to get you started. Note; the products in our packs are subject to change as we work with heaps of different awesome companies to put them together. \n  \nTauranga – "Waste-ed" with Kate Meads – 30th March
URL:https://envirohub.org.nz/event/waste-ed-with-kate-meads/
LOCATION:Historic Village Cinema\, 17th Avenue\, 3112\, New Zealand
CATEGORIES:Sustainable Backyards
ORGANIZER;CN="Kate Meads":MAILTO:brody@katemeads.co.nz
END:VEVENT
END:VCALENDAR