BEGIN:VCALENDAR
VERSION:2.0
PRODID:-//EnviroHub Bay of Plenty - ECPv6.15.14//NONSGML v1.0//EN
CALSCALE:GREGORIAN
METHOD:PUBLISH
X-WR-CALNAME:EnviroHub Bay of Plenty
X-ORIGINAL-URL:https://envirohub.org.nz
X-WR-CALDESC:Events for EnviroHub Bay of Plenty
REFRESH-INTERVAL;VALUE=DURATION:PT1H
X-Robots-Tag:noindex
X-PUBLISHED-TTL:PT1H
BEGIN:VTIMEZONE
TZID:Pacific/Auckland
BEGIN:STANDARD
TZOFFSETFROM:+1300
TZOFFSETTO:+1200
TZNAME:NZST
DTSTART:20220402T140000
END:STANDARD
BEGIN:DAYLIGHT
TZOFFSETFROM:+1200
TZOFFSETTO:+1300
TZNAME:NZDT
DTSTART:20220924T140000
END:DAYLIGHT
BEGIN:STANDARD
TZOFFSETFROM:+1300
TZOFFSETTO:+1200
TZNAME:NZST
DTSTART:20230401T140000
END:STANDARD
BEGIN:DAYLIGHT
TZOFFSETFROM:+1200
TZOFFSETTO:+1300
TZNAME:NZDT
DTSTART:20230923T140000
END:DAYLIGHT
BEGIN:STANDARD
TZOFFSETFROM:+1300
TZOFFSETTO:+1200
TZNAME:NZST
DTSTART:20240406T140000
END:STANDARD
BEGIN:DAYLIGHT
TZOFFSETFROM:+1200
TZOFFSETTO:+1300
TZNAME:NZDT
DTSTART:20240928T140000
END:DAYLIGHT
END:VTIMEZONE
BEGIN:VEVENT
DTSTART;TZID=Pacific/Auckland:20230628T190000
DTEND;TZID=Pacific/Auckland:20230628T203000
DTSTAMP:20260423T075441
CREATED:20230615T121333Z
LAST-MODIFIED:20230615T121333Z
UID:8899-1687978800-1687984200@envirohub.org.nz
SUMMARY:Vital Interests in a Turbulent World - Free online zoom event
DESCRIPTION:As the world grapples with big power transitions\, shifting economic hierarchies\, climate change\, pandemics\, and severe challenges to international and regional equilibria\, New Zealand finds itself navigating increasingly hazardous waters\, yet with many constructive opportunities. Join our thought-provoking forum as our expert panel share their analyses and explore potential ways forward for Aotearoa \nWhat are our vital interests? \nHow do we advance these interests? \nWhere does Aotearoa New Zealand fit in with all of this? \n  \nCome and hear different perspectives\, and ask questions from the panel
URL:https://envirohub.org.nz/event/vital-interests-in-a-turbulent-world-free-online-zoom-event/
LOCATION:Online Zoom
END:VEVENT
END:VCALENDAR