BEGIN:VCALENDAR
VERSION:2.0
PRODID:-//EnviroHub Bay of Plenty - ECPv6.15.20//NONSGML v1.0//EN
CALSCALE:GREGORIAN
METHOD:PUBLISH
X-WR-CALNAME:EnviroHub Bay of Plenty
X-ORIGINAL-URL:https://envirohub.org.nz
X-WR-CALDESC:Events for EnviroHub Bay of Plenty
REFRESH-INTERVAL;VALUE=DURATION:PT1H
X-Robots-Tag:noindex
X-PUBLISHED-TTL:PT1H
BEGIN:VTIMEZONE
TZID:Pacific/Auckland
BEGIN:STANDARD
TZOFFSETFROM:+1300
TZOFFSETTO:+1200
TZNAME:NZST
DTSTART:20240406T140000
END:STANDARD
BEGIN:DAYLIGHT
TZOFFSETFROM:+1200
TZOFFSETTO:+1300
TZNAME:NZDT
DTSTART:20240928T140000
END:DAYLIGHT
BEGIN:STANDARD
TZOFFSETFROM:+1300
TZOFFSETTO:+1200
TZNAME:NZST
DTSTART:20250405T140000
END:STANDARD
BEGIN:DAYLIGHT
TZOFFSETFROM:+1200
TZOFFSETTO:+1300
TZNAME:NZDT
DTSTART:20250927T140000
END:DAYLIGHT
BEGIN:STANDARD
TZOFFSETFROM:+1300
TZOFFSETTO:+1200
TZNAME:NZST
DTSTART:20260404T140000
END:STANDARD
BEGIN:DAYLIGHT
TZOFFSETFROM:+1200
TZOFFSETTO:+1300
TZNAME:NZDT
DTSTART:20260926T140000
END:DAYLIGHT
END:VTIMEZONE
BEGIN:VEVENT
DTSTART;TZID=Pacific/Auckland:20250607T100000
DTEND;TZID=Pacific/Auckland:20250607T120000
DTSTAMP:20260426T110023
CREATED:20250512T031817Z
LAST-MODIFIED:20250512T031817Z
UID:17283-1749290400-1749297600@envirohub.org.nz
SUMMARY:Upcycled Matariki Lantern workshop
DESCRIPTION:Join us at Envirohub to learn how to make an upcycled paper star lantern using one of the many paper shopping bags you have stashed at home! We will provide all materials needed\, but ask that you bring a paper shopping bag if you have one (a rip or two is fine). \nWe will share light refreshments and a info on the meaning of Matariki before launching into the construction of your lantern! \nIf you like\, you can then bring your lantern along to walk the Matariki Light Trail at Ngāpeke Permaculture (Welcome Bay) a few weeks later (more info on this event to come). \nBONUS: You can also choose to make a small upcycled glass lantern to contribute to the Ngāpeke Light trail. Just bring along a glass jar with the label removed\, and we will make them together at the end of the paper lantern workshop. \nDate: Saturday 7th June \nTime: 10am until approx. 12pm \nLocation: Envirohub\, 31b Glasgow Street\, Tauranga South. \nCost: $10 \nGrab your ticket here! \nConditions: \nChildren are welcome to come as long as they are accompanied by a guardian who can assist with each lantern. \nPlease buy a ticket for each person who wishes to make a paper lantern. \nThis workshop requires some fiddly paper folding and gluing\, so will require strong motor skills and some patience. Please bring someone to assist you if this may be challenging. \nWe will be photographing the event for social media\, so please advise us at the start of the workshop if you do not want to be in photos.
URL:https://envirohub.org.nz/event/upcycled-matariki-lantern-workshop/
LOCATION:Envirohub BOP\, 31B Glasgow Street\, Tauranga\, 3110\, New Zealand
CATEGORIES:Sustainable Backyards Bitesize
ATTACH;FMTTYPE=image/png:https://envirohub.org.nz/wp-content/uploads/2025/05/Upcycled-Matariki-Lantern-Workshop-square.png
ORGANIZER;CN="Envirohub":MAILTO:admin@envirohub.org.nz
END:VEVENT
END:VCALENDAR