BEGIN:VCALENDAR
VERSION:2.0
PRODID:-//EnviroHub Bay of Plenty - ECPv6.15.20//NONSGML v1.0//EN
CALSCALE:GREGORIAN
METHOD:PUBLISH
X-WR-CALNAME:EnviroHub Bay of Plenty
X-ORIGINAL-URL:https://envirohub.org.nz
X-WR-CALDESC:Events for EnviroHub Bay of Plenty
REFRESH-INTERVAL;VALUE=DURATION:PT1H
X-Robots-Tag:noindex
X-PUBLISHED-TTL:PT1H
BEGIN:VTIMEZONE
TZID:Pacific/Auckland
BEGIN:STANDARD
TZOFFSETFROM:+1300
TZOFFSETTO:+1200
TZNAME:NZST
DTSTART:20240406T140000
END:STANDARD
BEGIN:DAYLIGHT
TZOFFSETFROM:+1200
TZOFFSETTO:+1300
TZNAME:NZDT
DTSTART:20240928T140000
END:DAYLIGHT
BEGIN:STANDARD
TZOFFSETFROM:+1300
TZOFFSETTO:+1200
TZNAME:NZST
DTSTART:20250405T140000
END:STANDARD
BEGIN:DAYLIGHT
TZOFFSETFROM:+1200
TZOFFSETTO:+1300
TZNAME:NZDT
DTSTART:20250927T140000
END:DAYLIGHT
BEGIN:STANDARD
TZOFFSETFROM:+1300
TZOFFSETTO:+1200
TZNAME:NZST
DTSTART:20260404T140000
END:STANDARD
BEGIN:DAYLIGHT
TZOFFSETFROM:+1200
TZOFFSETTO:+1300
TZNAME:NZDT
DTSTART:20260926T140000
END:DAYLIGHT
END:VTIMEZONE
BEGIN:VEVENT
DTSTART;TZID=Pacific/Auckland:20251008T100000
DTEND;TZID=Pacific/Auckland:20251008T120000
DTSTAMP:20260426T103358
CREATED:20250910T000728Z
LAST-MODIFIED:20250910T000728Z
UID:19177-1759917600-1759924800@envirohub.org.nz
SUMMARY:Tree Planting Closing Event - Young At Heart Festival
DESCRIPTION:Join Envirohub and Tauranga City Council for a short formal close to our week of festivities celebrating the older person\, then plant your own native plant alongside whānau in a ceremony symbolising growth\, belonging\, and care for Papatūānuku. \nLight refreshments served. All ages and families welcome! \nFree tickets—please RSVP to reserve your tree. \nPlants and spades will be provided but feel free to bring your own gloves and spade if you want. \nPlease ensure you wear appropriate footwear as you will be planting in and around the wetland. \nLook out for the flags and gazebos for the exact location at Gordon Carmichael Reserve \nIf you have mobility issues please get in touch so we can make a plan to accommodate you. Volunteers will be available to plant a tree on your behalf if health or mobility prevents you from doing so. \n\n Date and time \n\n\n\n\nWed 08 Oct 2025      10:00am – 12:00pm \n\n\n\n\n Location \n\n\nGordon Carmichael Reserve \nCarmichael Road\, Tauranga 3110 \nOpen in Google Maps\n\n\n\n Price and booking \n\n\nFree
URL:https://envirohub.org.nz/event/tree-planting-closing-event-young-at-heart-festival/
LOCATION:gordon Carmichael Road\, Carmichael Road\, Tauranga\, Bay of Plenty\, 3110\, New Zealand
CATEGORIES:Young at Heart
ATTACH;FMTTYPE=image/png:https://envirohub.org.nz/wp-content/uploads/2025/09/Tree-Planting.png
END:VEVENT
END:VCALENDAR