BEGIN:VCALENDAR
VERSION:2.0
PRODID:-//EnviroHub Bay of Plenty - ECPv6.15.20//NONSGML v1.0//EN
CALSCALE:GREGORIAN
METHOD:PUBLISH
X-WR-CALNAME:EnviroHub Bay of Plenty
X-ORIGINAL-URL:https://envirohub.org.nz
X-WR-CALDESC:Events for EnviroHub Bay of Plenty
REFRESH-INTERVAL;VALUE=DURATION:PT1H
X-Robots-Tag:noindex
X-PUBLISHED-TTL:PT1H
BEGIN:VTIMEZONE
TZID:Pacific/Auckland
BEGIN:STANDARD
TZOFFSETFROM:+1300
TZOFFSETTO:+1200
TZNAME:NZST
DTSTART:20230401T140000
END:STANDARD
BEGIN:DAYLIGHT
TZOFFSETFROM:+1200
TZOFFSETTO:+1300
TZNAME:NZDT
DTSTART:20230923T140000
END:DAYLIGHT
BEGIN:STANDARD
TZOFFSETFROM:+1300
TZOFFSETTO:+1200
TZNAME:NZST
DTSTART:20240406T140000
END:STANDARD
BEGIN:DAYLIGHT
TZOFFSETFROM:+1200
TZOFFSETTO:+1300
TZNAME:NZDT
DTSTART:20240928T140000
END:DAYLIGHT
BEGIN:STANDARD
TZOFFSETFROM:+1300
TZOFFSETTO:+1200
TZNAME:NZST
DTSTART:20250405T140000
END:STANDARD
BEGIN:DAYLIGHT
TZOFFSETFROM:+1200
TZOFFSETTO:+1300
TZNAME:NZDT
DTSTART:20250927T140000
END:DAYLIGHT
END:VTIMEZONE
BEGIN:VEVENT
DTSTART;TZID=Pacific/Auckland:20240316T100000
DTEND;TZID=Pacific/Auckland:20240316T120000
DTSTAMP:20260426T163757
CREATED:20240208T075551Z
LAST-MODIFIED:20240208T075551Z
UID:11404-1710583200-1710590400@envirohub.org.nz
SUMMARY:Trap Library Open Day and Drop In Session
DESCRIPTION:Tauranga and Western Bay Residents – need help making your backyard pest free? Come along to the Pest Trap Library open day in the Envirohub Building\, 31B Glasgow St\, Tauranga. Stop in and borrow for free (for up to 3 months) traps for stoats\, ferrets\, possums\, hedgehogs\, rats\, and feral cats. Or just pop in for some advice and a chat. Free rat traps will also be available for residents not yet signed up for backyard trapping
URL:https://envirohub.org.nz/event/trap-library-open-day-and-drop-in-session/
LOCATION:Envirohub BOP\, 31B Glasgow Street\, Tauranga\, 3110\, New Zealand
CATEGORIES:Predator Free BOP
ATTACH;FMTTYPE=image/png:https://envirohub.org.nz/wp-content/uploads/2024/02/Website-Events-Template-11-1.png
ORGANIZER;CN="Predator Free BOP":MAILTO:predatorfreebop@gmail.com
END:VEVENT
END:VCALENDAR