BEGIN:VCALENDAR
VERSION:2.0
PRODID:-//EnviroHub Bay of Plenty - ECPv6.15.20//NONSGML v1.0//EN
CALSCALE:GREGORIAN
METHOD:PUBLISH
X-WR-CALNAME:EnviroHub Bay of Plenty
X-ORIGINAL-URL:https://envirohub.org.nz
X-WR-CALDESC:Events for EnviroHub Bay of Plenty
REFRESH-INTERVAL;VALUE=DURATION:PT1H
X-Robots-Tag:noindex
X-PUBLISHED-TTL:PT1H
BEGIN:VTIMEZONE
TZID:Pacific/Auckland
BEGIN:STANDARD
TZOFFSETFROM:+1300
TZOFFSETTO:+1200
TZNAME:NZST
DTSTART:20240406T140000
END:STANDARD
BEGIN:DAYLIGHT
TZOFFSETFROM:+1200
TZOFFSETTO:+1300
TZNAME:NZDT
DTSTART:20240928T140000
END:DAYLIGHT
BEGIN:STANDARD
TZOFFSETFROM:+1300
TZOFFSETTO:+1200
TZNAME:NZST
DTSTART:20250405T140000
END:STANDARD
BEGIN:DAYLIGHT
TZOFFSETFROM:+1200
TZOFFSETTO:+1300
TZNAME:NZDT
DTSTART:20250927T140000
END:DAYLIGHT
BEGIN:STANDARD
TZOFFSETFROM:+1300
TZOFFSETTO:+1200
TZNAME:NZST
DTSTART:20260404T140000
END:STANDARD
BEGIN:DAYLIGHT
TZOFFSETFROM:+1200
TZOFFSETTO:+1300
TZNAME:NZDT
DTSTART:20260926T140000
END:DAYLIGHT
END:VTIMEZONE
BEGIN:VEVENT
DTSTART;TZID=Pacific/Auckland:20250421T130000
DTEND;TZID=Pacific/Auckland:20250421T150000
DTSTAMP:20260426T092352
CREATED:20250417T053950Z
LAST-MODIFIED:20250417T053950Z
UID:16908-1745240400-1745247600@envirohub.org.nz
SUMMARY:🍄 Tiny Teacup Mini Fungi Garden Workshop 🍄
DESCRIPTION:Embark on a whimsical journey into the world of fungi with this tiny teacup garden building workshop. Join us for an enchanting experience where you’ll craft your very own miniature clay mushrooms for your little garden.\n\nWhat to Expect:Miniature Magic: Build a tiny world filled with whimsy and charm inside a teacup! Learn the art of miniature garden design with tiny decorative elements to create a magical world for tiny plants and mini clay fungi.\nMini clay sculpting: Dive into the art of polymer clay crafting as you mould and shape tiny mushrooms under the guidance of Bobbi Summers\, who has over 20 years experience working with this special oven-bake clay. Personalize your mushrooms with intricate details then add them to your tiny garden.\nExpress Your Creativity: This workshop encourages creativity and individual expression. Craft a unique tiny teacup garden that reflects your style and imagination\, and sculpt tiny clay mushrooms to inhabit your mini potted world.\nConnection and Community: Share the joy of crafting with like-minded individuals in a fun and welcoming environment.\nLearn all about mushrooms: Bobbi will teach you about the different types of mushrooms found in NZ while you sculpt your own.\n\nEvent Details:Date and Time: Monday 21st April (Easter Monday)\, 1-3pm (2 hours)Location: Envirohub\, 31B Glasgow street\, Tauranga\nWhat’s supplied: A plant\, soil\, gravel\, decorative stones and shells\, a few tiny decorations\, and everything needed to make a set of little clay mushrooms.\nWhat to bring: A teacup to use as the vessel for your garden – recommended between 7 and 10cm in diameter. There are heaps available from local second hand shops\, in many designs and styles\, for between $1 and $4 each. We will also have a range of second hand teacups available for $2ea if you can’t find your own. You are welcome to bring along any special items you would like to add (shells\, pebbles\, buttons\, etc).\nMinimum Age: 5 yearsPrice: Only $18 each\, spaces very limited!
URL:https://envirohub.org.nz/event/tiny-teacup-mini-fungi-garden-workshop/
LOCATION:Envirohub BOP\, 31B Glasgow Street\, Tauranga\, 3110\, New Zealand
CATEGORIES:Sustainable Backyards Bitesize
ATTACH;FMTTYPE=image/png:https://envirohub.org.nz/wp-content/uploads/2025/04/Website-Events-Template-30.png
ORGANIZER;CN="Fungi Fest":MAILTO:fungifestnz@gmail.com
END:VEVENT
END:VCALENDAR