BEGIN:VCALENDAR
VERSION:2.0
PRODID:-//EnviroHub Bay of Plenty - ECPv6.15.14//NONSGML v1.0//EN
CALSCALE:GREGORIAN
METHOD:PUBLISH
X-WR-CALNAME:EnviroHub Bay of Plenty
X-ORIGINAL-URL:https://envirohub.org.nz
X-WR-CALDESC:Events for EnviroHub Bay of Plenty
REFRESH-INTERVAL;VALUE=DURATION:PT1H
X-Robots-Tag:noindex
X-PUBLISHED-TTL:PT1H
BEGIN:VTIMEZONE
TZID:Pacific/Auckland
BEGIN:STANDARD
TZOFFSETFROM:+1300
TZOFFSETTO:+1200
TZNAME:NZST
DTSTART:20250405T140000
END:STANDARD
BEGIN:DAYLIGHT
TZOFFSETFROM:+1200
TZOFFSETTO:+1300
TZNAME:NZDT
DTSTART:20250927T140000
END:DAYLIGHT
BEGIN:STANDARD
TZOFFSETFROM:+1300
TZOFFSETTO:+1200
TZNAME:NZST
DTSTART:20260404T140000
END:STANDARD
BEGIN:DAYLIGHT
TZOFFSETFROM:+1200
TZOFFSETTO:+1300
TZNAME:NZDT
DTSTART:20260926T140000
END:DAYLIGHT
BEGIN:STANDARD
TZOFFSETFROM:+1300
TZOFFSETTO:+1200
TZNAME:NZST
DTSTART:20270403T140000
END:STANDARD
BEGIN:DAYLIGHT
TZOFFSETFROM:+1200
TZOFFSETTO:+1300
TZNAME:NZDT
DTSTART:20270925T140000
END:DAYLIGHT
END:VTIMEZONE
BEGIN:VEVENT
DTSTART;VALUE=DATE:20260321
DTEND;VALUE=DATE:20260322
DTSTAMP:20260421T073959
CREATED:20251214T212118Z
LAST-MODIFIED:20251214T212118Z
UID:21117-1774051200-1774137599@envirohub.org.nz
SUMMARY:Tauranga Frocktails
DESCRIPTION:Never been to a Frocktails before? You’re in good company\, it is a relaxed\, social night where our wonderful sewing community comes together to chat\, connect\, and enjoy a fun evening out. \nFor a bit of optional fun\, feel free to dress up in something you made – a frock\, top\, hat accessory……anything goes! There are no rules\, just creativity and good vibes. \n🎁Every attendee receives a goodie bag. \n🍹Ticket will include a cocktail or mocktail and some canapés. \nRaffle tickets\, spot prizes and other grabs are in the pipeline. \nKeep an eye out for more information. \nWe can not wait to see you there and celebrate the joy of sewing!🎉🧵 \n  \nTicket and venue details to be confirmed
URL:https://envirohub.org.nz/event/tauranga-frocktails/
ATTACH;FMTTYPE=image/png:https://envirohub.org.nz/wp-content/uploads/2025/12/Tauranga-Frocktails-.png
END:VEVENT
END:VCALENDAR