BEGIN:VCALENDAR
VERSION:2.0
PRODID:-//EnviroHub Bay of Plenty - ECPv6.15.20//NONSGML v1.0//EN
CALSCALE:GREGORIAN
METHOD:PUBLISH
X-WR-CALNAME:EnviroHub Bay of Plenty
X-ORIGINAL-URL:https://envirohub.org.nz
X-WR-CALDESC:Events for EnviroHub Bay of Plenty
REFRESH-INTERVAL;VALUE=DURATION:PT1H
X-Robots-Tag:noindex
X-PUBLISHED-TTL:PT1H
BEGIN:VTIMEZONE
TZID:Pacific/Auckland
BEGIN:STANDARD
TZOFFSETFROM:+1300
TZOFFSETTO:+1200
TZNAME:NZST
DTSTART:20240406T140000
END:STANDARD
BEGIN:DAYLIGHT
TZOFFSETFROM:+1200
TZOFFSETTO:+1300
TZNAME:NZDT
DTSTART:20240928T140000
END:DAYLIGHT
BEGIN:STANDARD
TZOFFSETFROM:+1300
TZOFFSETTO:+1200
TZNAME:NZST
DTSTART:20250405T140000
END:STANDARD
BEGIN:DAYLIGHT
TZOFFSETFROM:+1200
TZOFFSETTO:+1300
TZNAME:NZDT
DTSTART:20250927T140000
END:DAYLIGHT
BEGIN:STANDARD
TZOFFSETFROM:+1300
TZOFFSETTO:+1200
TZNAME:NZST
DTSTART:20260404T140000
END:STANDARD
BEGIN:DAYLIGHT
TZOFFSETFROM:+1200
TZOFFSETTO:+1300
TZNAME:NZDT
DTSTART:20260926T140000
END:DAYLIGHT
END:VTIMEZONE
BEGIN:VEVENT
DTSTART;TZID=Pacific/Auckland:20251004T103000
DTEND;TZID=Pacific/Auckland:20251004T130000
DTSTAMP:20260426T102517
CREATED:20250916T012858Z
LAST-MODIFIED:20250916T012858Z
UID:19401-1759573800-1759582800@envirohub.org.nz
SUMMARY:Tastes & Tales- Migrant Seniors' Lunch - Young At Heart Festival
DESCRIPTION:Multicultural Tauranga would like to invite migrant senior’s to join them for a shared meal and tell us your stories.\nAnyone 65 Plus is welcome. Shared meal. Registrations essential – via Multicultural Tauranga’s Facebook Page. \n\n Date and time \n\n\n\n\nSat 04 Oct 2025         10:30am – 1:00pm  \n\n\n\n\n Location \n\n\nWelcome Bay Community Hall \n240 Welcome Bay Road\, Tauranga 3112 \nOpen in Google Maps\n\n\n\nPricing \n\n\nFree \n\n\n\n\nFurther event details \n\n\nVisit Facebook event
URL:https://envirohub.org.nz/event/tastes-tales-migrant-seniors-lunch-young-at-heart-festival/
LOCATION:Welcome Bay Community Centre\, 242 Welcome Bay Road\, Welcome Bay\, Tauranga\, \,3112
CATEGORIES:Young at Heart
ATTACH;FMTTYPE=image/png:https://envirohub.org.nz/wp-content/uploads/2025/09/YAH-Event-images-for-WOT-1500-x-1000-px-3.png
END:VEVENT
END:VCALENDAR