BEGIN:VCALENDAR
VERSION:2.0
PRODID:-//EnviroHub Bay of Plenty - ECPv6.15.20//NONSGML v1.0//EN
CALSCALE:GREGORIAN
METHOD:PUBLISH
X-WR-CALNAME:EnviroHub Bay of Plenty
X-ORIGINAL-URL:https://envirohub.org.nz
X-WR-CALDESC:Events for EnviroHub Bay of Plenty
REFRESH-INTERVAL;VALUE=DURATION:PT1H
X-Robots-Tag:noindex
X-PUBLISHED-TTL:PT1H
BEGIN:VTIMEZONE
TZID:Pacific/Auckland
BEGIN:STANDARD
TZOFFSETFROM:+1300
TZOFFSETTO:+1200
TZNAME:NZST
DTSTART:20240406T140000
END:STANDARD
BEGIN:DAYLIGHT
TZOFFSETFROM:+1200
TZOFFSETTO:+1300
TZNAME:NZDT
DTSTART:20240928T140000
END:DAYLIGHT
BEGIN:STANDARD
TZOFFSETFROM:+1300
TZOFFSETTO:+1200
TZNAME:NZST
DTSTART:20250405T140000
END:STANDARD
BEGIN:DAYLIGHT
TZOFFSETFROM:+1200
TZOFFSETTO:+1300
TZNAME:NZDT
DTSTART:20250927T140000
END:DAYLIGHT
BEGIN:STANDARD
TZOFFSETFROM:+1300
TZOFFSETTO:+1200
TZNAME:NZST
DTSTART:20260404T140000
END:STANDARD
BEGIN:DAYLIGHT
TZOFFSETFROM:+1200
TZOFFSETTO:+1300
TZNAME:NZDT
DTSTART:20260926T140000
END:DAYLIGHT
END:VTIMEZONE
BEGIN:VEVENT
DTSTART;TZID=Pacific/Auckland:20250511T133000
DTEND;TZID=Pacific/Auckland:20250511T143000
DTSTAMP:20260426T041942
CREATED:20250430T001108Z
LAST-MODIFIED:20250430T001108Z
UID:17077-1746970200-1746973800@envirohub.org.nz
SUMMARY:Space for Nature - Problem Plants
DESCRIPTION:Pest plant workshop presented by an expert from the Tauranga City Council Environment team. Come and join your Space for Nature community learning key tips for identifying common pest plants and best control methods to ensure our nature spaces can provide healthy habitats for wildlife \nIf you want to find out more about our Space for Nature Program and the workshops please email rose@envirohub.org.nz
URL:https://envirohub.org.nz/event/space-for-nature-problem-plants/
LOCATION:Waiaka Reserve\, Maungawhare Place\, Ōtūmoetai\, Maungawhare Place\, Tauranga
CATEGORIES:Space for Nature
ATTACH;FMTTYPE=image/png:https://envirohub.org.nz/wp-content/uploads/2025/04/regenerate-fashion-market-2.png
ORGANIZER;CN="Envirohub & Space for Nature":MAILTO:sam@envirohub.org.nz
END:VEVENT
END:VCALENDAR