BEGIN:VCALENDAR
VERSION:2.0
PRODID:-//EnviroHub Bay of Plenty - ECPv6.15.20//NONSGML v1.0//EN
CALSCALE:GREGORIAN
METHOD:PUBLISH
X-WR-CALNAME:EnviroHub Bay of Plenty
X-ORIGINAL-URL:https://envirohub.org.nz
X-WR-CALDESC:Events for EnviroHub Bay of Plenty
REFRESH-INTERVAL;VALUE=DURATION:PT1H
X-Robots-Tag:noindex
X-PUBLISHED-TTL:PT1H
BEGIN:VTIMEZONE
TZID:Pacific/Auckland
BEGIN:STANDARD
TZOFFSETFROM:+1300
TZOFFSETTO:+1200
TZNAME:NZST
DTSTART:20240406T140000
END:STANDARD
BEGIN:DAYLIGHT
TZOFFSETFROM:+1200
TZOFFSETTO:+1300
TZNAME:NZDT
DTSTART:20240928T140000
END:DAYLIGHT
BEGIN:STANDARD
TZOFFSETFROM:+1300
TZOFFSETTO:+1200
TZNAME:NZST
DTSTART:20250405T140000
END:STANDARD
BEGIN:DAYLIGHT
TZOFFSETFROM:+1200
TZOFFSETTO:+1300
TZNAME:NZDT
DTSTART:20250927T140000
END:DAYLIGHT
BEGIN:STANDARD
TZOFFSETFROM:+1300
TZOFFSETTO:+1200
TZNAME:NZST
DTSTART:20260404T140000
END:STANDARD
BEGIN:DAYLIGHT
TZOFFSETFROM:+1200
TZOFFSETTO:+1300
TZNAME:NZDT
DTSTART:20260926T140000
END:DAYLIGHT
END:VTIMEZONE
BEGIN:VEVENT
DTSTART;TZID=Pacific/Auckland:20250518T133000
DTEND;TZID=Pacific/Auckland:20250518T143000
DTSTAMP:20260426T143912
CREATED:20250429T081745Z
LAST-MODIFIED:20250430T001320Z
UID:17053-1747575000-1747578600@envirohub.org.nz
SUMMARY:Space for Nature - Befriending Birds
DESCRIPTION:Space for Nature participants are invited to join us for a workshop on our Birdlife. \nOur expert will guide us through the basics of bird observation\, identification\, and birdcall talk\, followed by a combined group bird count. You will then go home to your own backyard with your new skills and complete a bird count there. The combined data will be the baseline bird count data at the start of the Space for Nature programme in the area \nIf you live in Otumoetai and want to join the program find out more here
URL:https://envirohub.org.nz/event/space-for-nature-befriending-birds/
LOCATION:Waiaka Reserve\, Maungawhare Place\, Ōtūmoetai\, Maungawhare Place\, Tauranga
CATEGORIES:Space for Nature
ATTACH;FMTTYPE=image/png:https://envirohub.org.nz/wp-content/uploads/2025/04/Copy-of-Website-Events-Template-1.png
ORGANIZER;CN="Envirohub & Space for Nature":MAILTO:sam@envirohub.org.nz
END:VEVENT
END:VCALENDAR