BEGIN:VCALENDAR
VERSION:2.0
PRODID:-//EnviroHub Bay of Plenty - ECPv6.15.20//NONSGML v1.0//EN
CALSCALE:GREGORIAN
METHOD:PUBLISH
X-WR-CALNAME:EnviroHub Bay of Plenty
X-ORIGINAL-URL:https://envirohub.org.nz
X-WR-CALDESC:Events for EnviroHub Bay of Plenty
REFRESH-INTERVAL;VALUE=DURATION:PT1H
X-Robots-Tag:noindex
X-PUBLISHED-TTL:PT1H
BEGIN:VTIMEZONE
TZID:Pacific/Auckland
BEGIN:STANDARD
TZOFFSETFROM:+1300
TZOFFSETTO:+1200
TZNAME:NZST
DTSTART:20230401T140000
END:STANDARD
BEGIN:DAYLIGHT
TZOFFSETFROM:+1200
TZOFFSETTO:+1300
TZNAME:NZDT
DTSTART:20230923T140000
END:DAYLIGHT
BEGIN:STANDARD
TZOFFSETFROM:+1300
TZOFFSETTO:+1200
TZNAME:NZST
DTSTART:20240406T140000
END:STANDARD
BEGIN:DAYLIGHT
TZOFFSETFROM:+1200
TZOFFSETTO:+1300
TZNAME:NZDT
DTSTART:20240928T140000
END:DAYLIGHT
BEGIN:STANDARD
TZOFFSETFROM:+1300
TZOFFSETTO:+1200
TZNAME:NZST
DTSTART:20250405T140000
END:STANDARD
BEGIN:DAYLIGHT
TZOFFSETFROM:+1200
TZOFFSETTO:+1300
TZNAME:NZDT
DTSTART:20250927T140000
END:DAYLIGHT
END:VTIMEZONE
BEGIN:VEVENT
DTSTART;TZID=Pacific/Auckland:20241019T110000
DTEND;TZID=Pacific/Auckland:20241019T130000
DTSTAMP:20260424T152028
CREATED:20241001T032425Z
LAST-MODIFIED:20241001T032425Z
UID:14264-1729335600-1729342800@envirohub.org.nz
SUMMARY:Seeds 101 - all you need to know about seeds Grow on Katikati
DESCRIPTION:Everything you need to know about seeds!This hands on workshop will cover:Planting seeds and raising successful seedlings.How to save your own seedsSeed swap – bring any excess and swap with others.Seed library (bring gold coins and get something special)
URL:https://envirohub.org.nz/event/seeds-101-all-you-need-to-know-about-seeds-grow-on-katikati/
LOCATION:Grow on Katikati\, 21 Main Road\,\, Katikati\, New Zealand
ATTACH;FMTTYPE=image/png:https://envirohub.org.nz/wp-content/uploads/2024/10/Repair-festival-7.png
ORGANIZER;CN="Grow on Katikati":MAILTO:grownonkatikati@gmail.com
END:VEVENT
END:VCALENDAR