BEGIN:VCALENDAR
VERSION:2.0
PRODID:-//EnviroHub Bay of Plenty - ECPv6.15.14//NONSGML v1.0//EN
CALSCALE:GREGORIAN
METHOD:PUBLISH
X-WR-CALNAME:EnviroHub Bay of Plenty
X-ORIGINAL-URL:https://envirohub.org.nz
X-WR-CALDESC:Events for EnviroHub Bay of Plenty
REFRESH-INTERVAL;VALUE=DURATION:PT1H
X-Robots-Tag:noindex
X-PUBLISHED-TTL:PT1H
BEGIN:VTIMEZONE
TZID:Pacific/Auckland
BEGIN:STANDARD
TZOFFSETFROM:+1300
TZOFFSETTO:+1200
TZNAME:NZST
DTSTART:20220402T140000
END:STANDARD
BEGIN:DAYLIGHT
TZOFFSETFROM:+1200
TZOFFSETTO:+1300
TZNAME:NZDT
DTSTART:20220924T140000
END:DAYLIGHT
BEGIN:STANDARD
TZOFFSETFROM:+1300
TZOFFSETTO:+1200
TZNAME:NZST
DTSTART:20230401T140000
END:STANDARD
BEGIN:DAYLIGHT
TZOFFSETFROM:+1200
TZOFFSETTO:+1300
TZNAME:NZDT
DTSTART:20230923T140000
END:DAYLIGHT
BEGIN:STANDARD
TZOFFSETFROM:+1300
TZOFFSETTO:+1200
TZNAME:NZST
DTSTART:20240406T140000
END:STANDARD
BEGIN:DAYLIGHT
TZOFFSETFROM:+1200
TZOFFSETTO:+1300
TZNAME:NZDT
DTSTART:20240928T140000
END:DAYLIGHT
END:VTIMEZONE
BEGIN:VEVENT
DTSTART;VALUE=DATE:20230303
DTEND;VALUE=DATE:20230304
DTSTAMP:20260421T204201
CREATED:20230227T211504Z
LAST-MODIFIED:20230227T211504Z
UID:7658-1677801600-1677887999@envirohub.org.nz
SUMMARY:School Strike 4 Climate NZ
DESCRIPTION:Kia Ora Aotearoa!!!\nWe are very excited to announce our 1st strike of 2023. Strikes will be happening all around Aotearoa on the 3rd of March\, so make sure to check this account regularly to find the one closest to you. \nAs we start off the year with the deadly floods in Tāmaki Makaurau and surrounding regions\, it is more important that ever that we act now. Climate change is here and time is up. We cannot procrastinate on climate action\, so join us in sending a message to those in power\, that we will not stop fighting for our future. \nKeep an eye on the Facebook page for local strikes you can attend.
URL:https://envirohub.org.nz/event/school-strike-4-climate-nz/
CATEGORIES:Sustainable Backyards
END:VEVENT
END:VCALENDAR