BEGIN:VCALENDAR
VERSION:2.0
PRODID:-//EnviroHub Bay of Plenty - ECPv6.15.20//NONSGML v1.0//EN
CALSCALE:GREGORIAN
METHOD:PUBLISH
X-WR-CALNAME:EnviroHub Bay of Plenty
X-ORIGINAL-URL:https://envirohub.org.nz
X-WR-CALDESC:Events for EnviroHub Bay of Plenty
REFRESH-INTERVAL;VALUE=DURATION:PT1H
X-Robots-Tag:noindex
X-PUBLISHED-TTL:PT1H
BEGIN:VTIMEZONE
TZID:Pacific/Auckland
BEGIN:STANDARD
TZOFFSETFROM:+1300
TZOFFSETTO:+1200
TZNAME:NZST
DTSTART:20220402T140000
END:STANDARD
BEGIN:DAYLIGHT
TZOFFSETFROM:+1200
TZOFFSETTO:+1300
TZNAME:NZDT
DTSTART:20220924T140000
END:DAYLIGHT
BEGIN:STANDARD
TZOFFSETFROM:+1300
TZOFFSETTO:+1200
TZNAME:NZST
DTSTART:20230401T140000
END:STANDARD
BEGIN:DAYLIGHT
TZOFFSETFROM:+1200
TZOFFSETTO:+1300
TZNAME:NZDT
DTSTART:20230923T140000
END:DAYLIGHT
BEGIN:STANDARD
TZOFFSETFROM:+1300
TZOFFSETTO:+1200
TZNAME:NZST
DTSTART:20240406T140000
END:STANDARD
BEGIN:DAYLIGHT
TZOFFSETFROM:+1200
TZOFFSETTO:+1300
TZNAME:NZDT
DTSTART:20240928T140000
END:DAYLIGHT
END:VTIMEZONE
BEGIN:VEVENT
DTSTART;TZID=Pacific/Auckland:20230318T080000
DTEND;TZID=Pacific/Auckland:20230319T170000
DTSTAMP:20260424T152142
CREATED:20230302T012527Z
LAST-MODIFIED:20230302T012527Z
UID:7809-1679126400-1679245200@envirohub.org.nz
SUMMARY:Rotorua Walking Festival
DESCRIPTION:A 2-day walking festival with walks in the majestic Whakarewarewa Forest\, Rotorua’s unique parks and urban environment\, through the lakefront and around the Government Gardens. \nYou can enter through the brochure or online. Now is a great time to set goals for 2023 such as walking a marathon\, half marathon or 10 kms! What a great way to discover Rotorua. \nRegistrations and celebrations commence on Friday 17th March with a nocturnal walk at 8pm. \nhttps://www.rotoruawalkingfestival.org.nz/ to find out more!
URL:https://envirohub.org.nz/event/rotorua-walking-festival/
CATEGORIES:Sustainable Backyards
END:VEVENT
END:VCALENDAR