BEGIN:VCALENDAR
VERSION:2.0
PRODID:-//EnviroHub Bay of Plenty - ECPv6.15.14//NONSGML v1.0//EN
CALSCALE:GREGORIAN
METHOD:PUBLISH
X-WR-CALNAME:EnviroHub Bay of Plenty
X-ORIGINAL-URL:https://envirohub.org.nz
X-WR-CALDESC:Events for EnviroHub Bay of Plenty
REFRESH-INTERVAL;VALUE=DURATION:PT1H
X-Robots-Tag:noindex
X-PUBLISHED-TTL:PT1H
BEGIN:VTIMEZONE
TZID:Pacific/Auckland
BEGIN:STANDARD
TZOFFSETFROM:+1300
TZOFFSETTO:+1200
TZNAME:NZST
DTSTART:20230401T140000
END:STANDARD
BEGIN:DAYLIGHT
TZOFFSETFROM:+1200
TZOFFSETTO:+1300
TZNAME:NZDT
DTSTART:20230923T140000
END:DAYLIGHT
BEGIN:STANDARD
TZOFFSETFROM:+1300
TZOFFSETTO:+1200
TZNAME:NZST
DTSTART:20240406T140000
END:STANDARD
BEGIN:DAYLIGHT
TZOFFSETFROM:+1200
TZOFFSETTO:+1300
TZNAME:NZDT
DTSTART:20240928T140000
END:DAYLIGHT
BEGIN:STANDARD
TZOFFSETFROM:+1300
TZOFFSETTO:+1200
TZNAME:NZST
DTSTART:20250405T140000
END:STANDARD
BEGIN:DAYLIGHT
TZOFFSETFROM:+1200
TZOFFSETTO:+1300
TZNAME:NZDT
DTSTART:20250927T140000
END:DAYLIGHT
END:VTIMEZONE
BEGIN:VEVENT
DTSTART;TZID=Pacific/Auckland:20241121T190000
DTEND;TZID=Pacific/Auckland:20241121T203000
DTSTAMP:20260421T204800
CREATED:20240923T034622Z
LAST-MODIFIED:20241105T011857Z
UID:14163-1732215600-1732221000@envirohub.org.nz
SUMMARY:Rotorua Movie Night - The Need To Grow
DESCRIPTION:ENVIROHUB ROTORUA FILM SCREENING | Get your friends together\, dinner at the night market and then join us to watch ‘The Need To Grow’\, a documentary that looks at industrial food systems and we can do better.\nTrailer: https://www.youtube.com/watch?v=6WHj5M4CBUkTickets: $5 (includes pop corn & a drink)Pre-register online here:\nFinally. A film about environmental solutions!\nThis is a story of CUTTING-EDGE SOLUTIONS to climate change.\nWith the planet on the brink of ecological disaster\,with chronic disease rates skyrocketing\, many are wondering…“What can I do?”\nCome along and find out!
URL:https://envirohub.org.nz/event/rotorua-movie-night-the-need-to-grow/
LOCATION:The Arts Village\, 1240 Hinemaru Street\, Rotorua\, 3010\, New Zealand
CATEGORIES:Sustainable Backyards Bitesize
ATTACH;FMTTYPE=image/png:https://envirohub.org.nz/wp-content/uploads/2024/09/Save-the-soil-save-the-Earth.png
ORGANIZER;CN="Envirohub":MAILTO:admin@envirohub.org.nz
END:VEVENT
END:VCALENDAR