BEGIN:VCALENDAR
VERSION:2.0
PRODID:-//EnviroHub Bay of Plenty - ECPv6.15.14//NONSGML v1.0//EN
CALSCALE:GREGORIAN
METHOD:PUBLISH
X-WR-CALNAME:EnviroHub Bay of Plenty
X-ORIGINAL-URL:https://envirohub.org.nz
X-WR-CALDESC:Events for EnviroHub Bay of Plenty
REFRESH-INTERVAL;VALUE=DURATION:PT1H
X-Robots-Tag:noindex
X-PUBLISHED-TTL:PT1H
BEGIN:VTIMEZONE
TZID:Pacific/Auckland
BEGIN:STANDARD
TZOFFSETFROM:+1300
TZOFFSETTO:+1200
TZNAME:NZST
DTSTART:20240406T140000
END:STANDARD
BEGIN:DAYLIGHT
TZOFFSETFROM:+1200
TZOFFSETTO:+1300
TZNAME:NZDT
DTSTART:20240928T140000
END:DAYLIGHT
BEGIN:STANDARD
TZOFFSETFROM:+1300
TZOFFSETTO:+1200
TZNAME:NZST
DTSTART:20250405T140000
END:STANDARD
BEGIN:DAYLIGHT
TZOFFSETFROM:+1200
TZOFFSETTO:+1300
TZNAME:NZDT
DTSTART:20250927T140000
END:DAYLIGHT
BEGIN:STANDARD
TZOFFSETFROM:+1300
TZOFFSETTO:+1200
TZNAME:NZST
DTSTART:20260404T140000
END:STANDARD
BEGIN:DAYLIGHT
TZOFFSETFROM:+1200
TZOFFSETTO:+1300
TZNAME:NZDT
DTSTART:20260926T140000
END:DAYLIGHT
END:VTIMEZONE
BEGIN:VEVENT
DTSTART;TZID=Pacific/Auckland:20250531T110000
DTEND;TZID=Pacific/Auckland:20250531T150000
DTSTAMP:20260422T191343
CREATED:20250508T054651Z
LAST-MODIFIED:20250508T054651Z
UID:17218-1748689200-1748703600@envirohub.org.nz
SUMMARY:Rotorua Arts Village Open Day -Haututū
DESCRIPTION:Haututū\, the open day is a free opportunity for the Rotorua community to come together\, see and learn about the many opportunities that are available to our Rotorua community.  Envirohub will be present to demonstrate how easy it is to grow microgreens at home and also Predator Free Rotorua will be available to provide free rat traps and tunnels.\n\nAn event for our community to get a taste of what goes on in our whare and share our mahi. Encourage the whole community to come and be a part of the arts\, and know that they have a place here and can find well-being\, belonging and opportunities here with us.\nWe invite community organisations to create a free continuously engaging activity for adults and children to participate in.
URL:https://envirohub.org.nz/event/rotorua-arts-village-open-day-haututu/
LOCATION:The Arts Village\, 1240 Hinemaru Street\, Rotorua\, 3010\, New Zealand
CATEGORIES:Predator Free BOP,Sustainable Backyards Bitesize
ATTACH;FMTTYPE=image/png:https://envirohub.org.nz/wp-content/uploads/2025/05/Rotorua.png
END:VEVENT
END:VCALENDAR