BEGIN:VCALENDAR
VERSION:2.0
PRODID:-//EnviroHub Bay of Plenty - ECPv6.15.20//NONSGML v1.0//EN
CALSCALE:GREGORIAN
METHOD:PUBLISH
X-WR-CALNAME:EnviroHub Bay of Plenty
X-ORIGINAL-URL:https://envirohub.org.nz
X-WR-CALDESC:Events for EnviroHub Bay of Plenty
REFRESH-INTERVAL;VALUE=DURATION:PT1H
X-Robots-Tag:noindex
X-PUBLISHED-TTL:PT1H
BEGIN:VTIMEZONE
TZID:Pacific/Auckland
BEGIN:STANDARD
TZOFFSETFROM:+1300
TZOFFSETTO:+1200
TZNAME:NZST
DTSTART:20210403T140000
END:STANDARD
BEGIN:DAYLIGHT
TZOFFSETFROM:+1200
TZOFFSETTO:+1300
TZNAME:NZDT
DTSTART:20210925T140000
END:DAYLIGHT
BEGIN:STANDARD
TZOFFSETFROM:+1300
TZOFFSETTO:+1200
TZNAME:NZST
DTSTART:20220402T140000
END:STANDARD
BEGIN:DAYLIGHT
TZOFFSETFROM:+1200
TZOFFSETTO:+1300
TZNAME:NZDT
DTSTART:20220924T140000
END:DAYLIGHT
BEGIN:STANDARD
TZOFFSETFROM:+1300
TZOFFSETTO:+1200
TZNAME:NZST
DTSTART:20230401T140000
END:STANDARD
BEGIN:DAYLIGHT
TZOFFSETFROM:+1200
TZOFFSETTO:+1300
TZNAME:NZDT
DTSTART:20230923T140000
END:DAYLIGHT
END:VTIMEZONE
BEGIN:VEVENT
DTSTART;TZID=Pacific/Auckland:20220924T100000
DTEND;TZID=Pacific/Auckland:20220924T120000
DTSTAMP:20260424T224554
CREATED:20220919T071926Z
LAST-MODIFIED:20220919T072118Z
UID:6465-1664013600-1664020800@envirohub.org.nz
SUMMARY:Repair Cafe - Tinkd Maker Space Tauranga
DESCRIPTION:Tinkd Makerspace is proud to host the first ever Repair Café Tauranga!\nCome to the CBD on Saturday 24th September for our first-ever session.\nRepair Cafés are free meeting places where members of the community with broken household items and volunteer repair specialists come together to repair and learn.\nAre you a repairer? Come along and chat the with the team to find out how you can be involved.\nDo you have something that needs repairing? Bring ONE item with you and our team of volunteer repairers will assess\, advise\, and attempt a repair on the day.\nThis is a 100% volunteer-driven initiative. More details about what will be able to be repaired to follow…
URL:https://envirohub.org.nz/event/repair-cafe-tinkd-maker-space-tauranga/
LOCATION:Tinkd Maker Space\, 148 Durham Street\, Tauranga\, New Zealand
END:VEVENT
END:VCALENDAR