BEGIN:VCALENDAR
VERSION:2.0
PRODID:-//EnviroHub Bay of Plenty - ECPv6.15.20//NONSGML v1.0//EN
CALSCALE:GREGORIAN
METHOD:PUBLISH
X-WR-CALNAME:EnviroHub Bay of Plenty
X-ORIGINAL-URL:https://envirohub.org.nz
X-WR-CALDESC:Events for EnviroHub Bay of Plenty
REFRESH-INTERVAL;VALUE=DURATION:PT1H
X-Robots-Tag:noindex
X-PUBLISHED-TTL:PT1H
BEGIN:VTIMEZONE
TZID:Pacific/Auckland
BEGIN:STANDARD
TZOFFSETFROM:+1300
TZOFFSETTO:+1200
TZNAME:NZST
DTSTART:20240406T140000
END:STANDARD
BEGIN:DAYLIGHT
TZOFFSETFROM:+1200
TZOFFSETTO:+1300
TZNAME:NZDT
DTSTART:20240928T140000
END:DAYLIGHT
BEGIN:STANDARD
TZOFFSETFROM:+1300
TZOFFSETTO:+1200
TZNAME:NZST
DTSTART:20250405T140000
END:STANDARD
BEGIN:DAYLIGHT
TZOFFSETFROM:+1200
TZOFFSETTO:+1300
TZNAME:NZDT
DTSTART:20250927T140000
END:DAYLIGHT
BEGIN:STANDARD
TZOFFSETFROM:+1300
TZOFFSETTO:+1200
TZNAME:NZST
DTSTART:20260404T140000
END:STANDARD
BEGIN:DAYLIGHT
TZOFFSETFROM:+1200
TZOFFSETTO:+1300
TZNAME:NZDT
DTSTART:20260926T140000
END:DAYLIGHT
END:VTIMEZONE
BEGIN:VEVENT
DTSTART;TZID=Pacific/Auckland:20250920T100000
DTEND;TZID=Pacific/Auckland:20250920T120000
DTSTAMP:20260426T125930
CREATED:20250630T093110Z
LAST-MODIFIED:20251028T022141Z
UID:17940-1758362400-1758369600@envirohub.org.nz
SUMMARY:Repair Cafe
DESCRIPTION:A monthly repair café where volunteers with amazing skills repair items for the community.\nThird Saturday each month.\nWe’re diverting waste and repairing things to make them last longer! We invite you to utilise this free service for Rotorua locals.
URL:https://envirohub.org.nz/event/repair-cafe-3/2025-09-20/
CATEGORIES:Sustainable Backyards Bitesize
ATTACH;FMTTYPE=image/png:https://envirohub.org.nz/wp-content/uploads/2025/06/Repair-Cafe-Rotorua.png
END:VEVENT
END:VCALENDAR