BEGIN:VCALENDAR
VERSION:2.0
PRODID:-//EnviroHub Bay of Plenty - ECPv6.15.14//NONSGML v1.0//EN
CALSCALE:GREGORIAN
METHOD:PUBLISH
X-WR-CALNAME:EnviroHub Bay of Plenty
X-ORIGINAL-URL:https://envirohub.org.nz
X-WR-CALDESC:Events for EnviroHub Bay of Plenty
REFRESH-INTERVAL;VALUE=DURATION:PT1H
X-Robots-Tag:noindex
X-PUBLISHED-TTL:PT1H
BEGIN:VTIMEZONE
TZID:Pacific/Auckland
BEGIN:STANDARD
TZOFFSETFROM:+1300
TZOFFSETTO:+1200
TZNAME:NZST
DTSTART:20230401T140000
END:STANDARD
BEGIN:DAYLIGHT
TZOFFSETFROM:+1200
TZOFFSETTO:+1300
TZNAME:NZDT
DTSTART:20230923T140000
END:DAYLIGHT
BEGIN:STANDARD
TZOFFSETFROM:+1300
TZOFFSETTO:+1200
TZNAME:NZST
DTSTART:20240406T140000
END:STANDARD
BEGIN:DAYLIGHT
TZOFFSETFROM:+1200
TZOFFSETTO:+1300
TZNAME:NZDT
DTSTART:20240928T140000
END:DAYLIGHT
BEGIN:STANDARD
TZOFFSETFROM:+1300
TZOFFSETTO:+1200
TZNAME:NZST
DTSTART:20250405T140000
END:STANDARD
BEGIN:DAYLIGHT
TZOFFSETFROM:+1200
TZOFFSETTO:+1300
TZNAME:NZDT
DTSTART:20250927T140000
END:DAYLIGHT
END:VTIMEZONE
BEGIN:VEVENT
DTSTART;TZID=Pacific/Auckland:20241109T103000
DTEND;TZID=Pacific/Auckland:20241109T120000
DTSTAMP:20260422T015854
CREATED:20241021T235916Z
LAST-MODIFIED:20241022T000807Z
UID:14557-1731148200-1731153600@envirohub.org.nz
SUMMARY:Recycled Plastic Jewellery Workshop - Whakatane
DESCRIPTION:Join Envirohub at Te Kōputu a te whanga a Toi/ Whakatāne Library and Gallery for a fun workshop where you will learn all about plastic recycling in Aotearoa and then turn a sheet of colourful recycled & reformed plastic lids\, into beautiful jewellery pieces using simple jewellery-making techniques. \nYou will make and take home a pair of earrings or a pendant made to your own design. \n  \nWhen: 10.30am – 12pm\, 9th November 2024 \nWhere: Te Kōputu a te whanga a Toi/ Whakatāne Library\, 49 Kakahoroa Drive\, Whakatāne \nTickets: $10 per person making\, be sure to book asap as spaces are limited! \nClick here to book tickets!\n\n\n  \nConditions: \nWe will be photographing the event\, please let us know when you arrive if you do not want to be in any photos. \nPlease book a ticket for each person (big or small) who will be making and taking home a piece of jewellery. \nBest suited for adults and older children who are confident using scissors un-aided and have the dexterity to use jewellery pliers.
URL:https://envirohub.org.nz/event/recycled-plastic-jewellery-workshop-whakatane/
LOCATION:Whakatane Library\, 49 Kākahoroa Drive\, Whakatane\, Bay of Plenty
CATEGORIES:Precious Plastic,Sustainable Backyards Bitesize
ATTACH;FMTTYPE=image/png:https://envirohub.org.nz/wp-content/uploads/2024/10/Jewellery-Whakatane.png
ORGANIZER;CN="Whakatane Library":MAILTO:library@whakatane.govt.nz
END:VEVENT
END:VCALENDAR