BEGIN:VCALENDAR
VERSION:2.0
PRODID:-//EnviroHub Bay of Plenty - ECPv6.15.20//NONSGML v1.0//EN
CALSCALE:GREGORIAN
METHOD:PUBLISH
X-WR-CALNAME:EnviroHub Bay of Plenty
X-ORIGINAL-URL:https://envirohub.org.nz
X-WR-CALDESC:Events for EnviroHub Bay of Plenty
REFRESH-INTERVAL;VALUE=DURATION:PT1H
X-Robots-Tag:noindex
X-PUBLISHED-TTL:PT1H
BEGIN:VTIMEZONE
TZID:Pacific/Auckland
BEGIN:STANDARD
TZOFFSETFROM:+1300
TZOFFSETTO:+1200
TZNAME:NZST
DTSTART:20240406T140000
END:STANDARD
BEGIN:DAYLIGHT
TZOFFSETFROM:+1200
TZOFFSETTO:+1300
TZNAME:NZDT
DTSTART:20240928T140000
END:DAYLIGHT
BEGIN:STANDARD
TZOFFSETFROM:+1300
TZOFFSETTO:+1200
TZNAME:NZST
DTSTART:20250405T140000
END:STANDARD
BEGIN:DAYLIGHT
TZOFFSETFROM:+1200
TZOFFSETTO:+1300
TZNAME:NZDT
DTSTART:20250927T140000
END:DAYLIGHT
BEGIN:STANDARD
TZOFFSETFROM:+1300
TZOFFSETTO:+1200
TZNAME:NZST
DTSTART:20260404T140000
END:STANDARD
BEGIN:DAYLIGHT
TZOFFSETFROM:+1200
TZOFFSETTO:+1300
TZNAME:NZDT
DTSTART:20260926T140000
END:DAYLIGHT
END:VTIMEZONE
BEGIN:VEVENT
DTSTART;TZID=Pacific/Auckland:20251010T111500
DTEND;TZID=Pacific/Auckland:20251010T114500
DTSTAMP:20260426T125609
CREATED:20250923T023527Z
LAST-MODIFIED:20250923T023527Z
UID:19560-1760094900-1760096700@envirohub.org.nz
SUMMARY:Predator Free Rotorua - Drop in Sessions
DESCRIPTION:Keen To Get Started in Backyard Trapping? Join our Drop in Sessions and grab a free rat trap!\nLinton Park Community Centre\, 16 Kamahi Place\n11.15 AM – 11.45 AM\n(alongside garden working bee) \nUPCOMING DATES\n3 October\n10 October\n17 October
URL:https://envirohub.org.nz/event/predator-free-rotorua-drop-in-sessions/2025-10-10/
LOCATION:Linton Park Community Centre\, 16 Kamahi Place\, Pukehangi\, Rotorua\, 3015\, New Zealand
CATEGORIES:Predator Free BOP
ATTACH;FMTTYPE=image/png:https://envirohub.org.nz/wp-content/uploads/2025/09/LPCC-drop-in-session-flyer.png
END:VEVENT
END:VCALENDAR