BEGIN:VCALENDAR
VERSION:2.0
PRODID:-//EnviroHub Bay of Plenty - ECPv6.15.14//NONSGML v1.0//EN
CALSCALE:GREGORIAN
METHOD:PUBLISH
X-WR-CALNAME:EnviroHub Bay of Plenty
X-ORIGINAL-URL:https://envirohub.org.nz
X-WR-CALDESC:Events for EnviroHub Bay of Plenty
REFRESH-INTERVAL;VALUE=DURATION:PT1H
X-Robots-Tag:noindex
X-PUBLISHED-TTL:PT1H
BEGIN:VTIMEZONE
TZID:Pacific/Auckland
BEGIN:STANDARD
TZOFFSETFROM:+1300
TZOFFSETTO:+1200
TZNAME:NZST
DTSTART:20240406T140000
END:STANDARD
BEGIN:DAYLIGHT
TZOFFSETFROM:+1200
TZOFFSETTO:+1300
TZNAME:NZDT
DTSTART:20240928T140000
END:DAYLIGHT
BEGIN:STANDARD
TZOFFSETFROM:+1300
TZOFFSETTO:+1200
TZNAME:NZST
DTSTART:20250405T140000
END:STANDARD
BEGIN:DAYLIGHT
TZOFFSETFROM:+1200
TZOFFSETTO:+1300
TZNAME:NZDT
DTSTART:20250927T140000
END:DAYLIGHT
BEGIN:STANDARD
TZOFFSETFROM:+1300
TZOFFSETTO:+1200
TZNAME:NZST
DTSTART:20260404T140000
END:STANDARD
BEGIN:DAYLIGHT
TZOFFSETFROM:+1200
TZOFFSETTO:+1300
TZNAME:NZDT
DTSTART:20260926T140000
END:DAYLIGHT
END:VTIMEZONE
BEGIN:VEVENT
DTSTART;TZID=Pacific/Auckland:20250328T180000
DTEND;TZID=Pacific/Auckland:20250328T200000
DTSTAMP:20260420T024931
CREATED:20250128T012055Z
LAST-MODIFIED:20250318T022524Z
UID:15757-1743184800-1743192000@envirohub.org.nz
SUMMARY:Pap Hills Guided Walk
DESCRIPTION:Join us for a twilight talk and walk with Councillor Kat MacMillian who will be on hand to talk about the developments at Pāpāmoa Hills Regional Park\, the new installations and an overview on the regenerative native planting. Then take a leisurely stroll to watch the sunset over the Bay (The park closes at 9pm so not too leisurely!). \nWear good walking shoes and bring a head torch if needed for the descent. \nWhen: Friday 28th March\, 6pm – 8pm \nWhere: Pāpāmoa Hills Cultural Heritage Regional Park\, Poplar Lane\, Pāpāmoa \nCost: FREE. Pre-register HERE. \nConditions: We may be photographing the event\, please let us know when you arrive if you do not want to be in any photos.
URL:https://envirohub.org.nz/event/pap-hills-guided-walk/
LOCATION:Ōmokoroa Library and Service Centre\, 28 Western Avenue\, Ōmokoroa\, 3114\, New Zealand
CATEGORIES:Sustainable Backyards
ATTACH;FMTTYPE=image/png:https://envirohub.org.nz/wp-content/uploads/2025/01/SBY-25-wbop-Pap-hills-guided-walk.png
END:VEVENT
END:VCALENDAR