BEGIN:VCALENDAR
VERSION:2.0
PRODID:-//EnviroHub Bay of Plenty - ECPv6.15.14//NONSGML v1.0//EN
CALSCALE:GREGORIAN
METHOD:PUBLISH
X-WR-CALNAME:EnviroHub Bay of Plenty
X-ORIGINAL-URL:https://envirohub.org.nz
X-WR-CALDESC:Events for EnviroHub Bay of Plenty
REFRESH-INTERVAL;VALUE=DURATION:PT1H
X-Robots-Tag:noindex
X-PUBLISHED-TTL:PT1H
BEGIN:VTIMEZONE
TZID:Pacific/Auckland
BEGIN:STANDARD
TZOFFSETFROM:+1300
TZOFFSETTO:+1200
TZNAME:NZST
DTSTART:20230401T140000
END:STANDARD
BEGIN:DAYLIGHT
TZOFFSETFROM:+1200
TZOFFSETTO:+1300
TZNAME:NZDT
DTSTART:20230923T140000
END:DAYLIGHT
BEGIN:STANDARD
TZOFFSETFROM:+1300
TZOFFSETTO:+1200
TZNAME:NZST
DTSTART:20240406T140000
END:STANDARD
BEGIN:DAYLIGHT
TZOFFSETFROM:+1200
TZOFFSETTO:+1300
TZNAME:NZDT
DTSTART:20240928T140000
END:DAYLIGHT
BEGIN:STANDARD
TZOFFSETFROM:+1300
TZOFFSETTO:+1200
TZNAME:NZST
DTSTART:20250405T140000
END:STANDARD
BEGIN:DAYLIGHT
TZOFFSETFROM:+1200
TZOFFSETTO:+1300
TZNAME:NZDT
DTSTART:20250927T140000
END:DAYLIGHT
END:VTIMEZONE
BEGIN:VEVENT
DTSTART;TZID=Pacific/Auckland:20240506T180000
DTEND;TZID=Pacific/Auckland:20240506T190000
DTSTAMP:20260421T025230
CREATED:20240423T013005Z
LAST-MODIFIED:20240429T212346Z
UID:12403-1715018400-1715022000@envirohub.org.nz
SUMMARY:Organic Week NZ  - Closing the Loop: The Art of Composting
DESCRIPTION:Organic Living Lab: Cultivate Knowledge\, Grow TogetherJoin our series of online workshops this Organic Week to explore and learn about organic living.\n\nIn this session\, Join Katrina in celebrating Organic Week as she unveils the magic of crafting organic soil. Discover the simplicity of composting and embrace the art of creating a truly circular garden. Say farewell to buying soil forever. Whether you’re a beginner or have limited space\, even your apartment balcony can become a sanctuary for turning food scraps into rich soil. Alongside Katrina’s guidance\, explore troubleshooting tips and unearth nifty products not typically found in garden centres. Are you ready to embark on a journey of gentle earth stewardship?\n\nRegister for this free event now: https://organicnz.org.nz/…/closing-the-loop-the-art-of…/\n\nAbout Katrina WolffKatrina’s composting consultancy ‘Blue Borage’ advises home gardeners\, community groups\, schools and workplaces on how to improve their composting systems\, using worm farms for food scraps and hot compost for garden waste. She began teaching composting in 2018\, and for the last six years has helped thousands of home gardeners create closed loop\, fully circular gardening systems\, using holistic management of invasive weeds. Most home gardeners could easily stop buying soil\, stop using toxic weedkillers\, and cancel their garden waste collections.\nRegister now for this free webinar and learn practical tips\, strategies\, and techniques to reduce frustration while improving the vitality of your soil.\nFind out more about Katrina.www.blueblorage.co.nz@blue_boragehttps://blueborage.teachable.com/p/home\n\n\n\nBook your ticket here: https://organicnz.org.nz/event-listing/from-idea-to-action-starting-an-organic-food-cooperative-with-robyn-guyton
URL:https://envirohub.org.nz/event/organic-week-nz-closing-the-loop-the-art-of-composting/
LOCATION:Online Zoom
CATEGORIES:Sustainable Backyards Bitesize
ATTACH;FMTTYPE=image/png:https://envirohub.org.nz/wp-content/uploads/2024/04/2.png
END:VEVENT
END:VCALENDAR