BEGIN:VCALENDAR
VERSION:2.0
PRODID:-//EnviroHub Bay of Plenty - ECPv6.15.20//NONSGML v1.0//EN
CALSCALE:GREGORIAN
METHOD:PUBLISH
X-WR-CALNAME:EnviroHub Bay of Plenty
X-ORIGINAL-URL:https://envirohub.org.nz
X-WR-CALDESC:Events for EnviroHub Bay of Plenty
REFRESH-INTERVAL;VALUE=DURATION:PT1H
X-Robots-Tag:noindex
X-PUBLISHED-TTL:PT1H
BEGIN:VTIMEZONE
TZID:Pacific/Auckland
BEGIN:STANDARD
TZOFFSETFROM:+1300
TZOFFSETTO:+1200
TZNAME:NZST
DTSTART:20230401T140000
END:STANDARD
BEGIN:DAYLIGHT
TZOFFSETFROM:+1200
TZOFFSETTO:+1300
TZNAME:NZDT
DTSTART:20230923T140000
END:DAYLIGHT
BEGIN:STANDARD
TZOFFSETFROM:+1300
TZOFFSETTO:+1200
TZNAME:NZST
DTSTART:20240406T140000
END:STANDARD
BEGIN:DAYLIGHT
TZOFFSETFROM:+1200
TZOFFSETTO:+1300
TZNAME:NZDT
DTSTART:20240928T140000
END:DAYLIGHT
BEGIN:STANDARD
TZOFFSETFROM:+1300
TZOFFSETTO:+1200
TZNAME:NZST
DTSTART:20250405T140000
END:STANDARD
BEGIN:DAYLIGHT
TZOFFSETFROM:+1200
TZOFFSETTO:+1300
TZNAME:NZDT
DTSTART:20250927T140000
END:DAYLIGHT
END:VTIMEZONE
BEGIN:VEVENT
DTSTART;TZID=Pacific/Auckland:20240301T160000
DTEND;TZID=Pacific/Auckland:20240301T173000
DTSTAMP:20260426T114650
CREATED:20240227T015736Z
LAST-MODIFIED:20240227T015736Z
UID:11677-1709308800-1709314200@envirohub.org.nz
SUMMARY:Open Garden - Guided Walking Tour
DESCRIPTION:See a working organic market garden\, composting\, soil management\, farm biodiversity\, and climate change-ready agriculture. All welcome. \nKoha appreciated (suggested amount $10). All funds will be donated to the Soil & Health Association of New Zealand.\n* Please arrive ON TIME for 4pm start (it’s a guided tour)\n* Please do NOT drive up the driveway (park at roadside and follow the signs to walk to the farm gate). \nWhen: 4:00pm\, Friday\, March 1st \nWhere: Lux Organics\, 21 Kingsley Drive\, Ngongotaha\, Rotorua\, 3010
URL:https://envirohub.org.nz/event/open-garden-guided-walking-tour/
LOCATION:Lux Organics\, 21 Kingsley Drive\, Rotorua\, 3010\, New Zealand
CATEGORIES:Sustainable Backyards
ATTACH;FMTTYPE=image/png:https://envirohub.org.nz/wp-content/uploads/2024/02/SBY-Event-Submissions-26.png
END:VEVENT
END:VCALENDAR