BEGIN:VCALENDAR
VERSION:2.0
PRODID:-//EnviroHub Bay of Plenty - ECPv6.15.20//NONSGML v1.0//EN
CALSCALE:GREGORIAN
METHOD:PUBLISH
X-WR-CALNAME:EnviroHub Bay of Plenty
X-ORIGINAL-URL:https://envirohub.org.nz
X-WR-CALDESC:Events for EnviroHub Bay of Plenty
REFRESH-INTERVAL;VALUE=DURATION:PT1H
X-Robots-Tag:noindex
X-PUBLISHED-TTL:PT1H
BEGIN:VTIMEZONE
TZID:Pacific/Auckland
BEGIN:STANDARD
TZOFFSETFROM:+1300
TZOFFSETTO:+1200
TZNAME:NZST
DTSTART:20230401T140000
END:STANDARD
BEGIN:DAYLIGHT
TZOFFSETFROM:+1200
TZOFFSETTO:+1300
TZNAME:NZDT
DTSTART:20230923T140000
END:DAYLIGHT
BEGIN:STANDARD
TZOFFSETFROM:+1300
TZOFFSETTO:+1200
TZNAME:NZST
DTSTART:20240406T140000
END:STANDARD
BEGIN:DAYLIGHT
TZOFFSETFROM:+1200
TZOFFSETTO:+1300
TZNAME:NZDT
DTSTART:20240928T140000
END:DAYLIGHT
BEGIN:STANDARD
TZOFFSETFROM:+1300
TZOFFSETTO:+1200
TZNAME:NZST
DTSTART:20250405T140000
END:STANDARD
BEGIN:DAYLIGHT
TZOFFSETFROM:+1200
TZOFFSETTO:+1300
TZNAME:NZDT
DTSTART:20250927T140000
END:DAYLIGHT
END:VTIMEZONE
BEGIN:VEVENT
DTSTART;TZID=Pacific/Auckland:20240304T090000
DTEND;TZID=Pacific/Auckland:20240304T110000
DTSTAMP:20260426T094919
CREATED:20240131T102348Z
LAST-MODIFIED:20240131T102348Z
UID:11254-1709542800-1709550000@envirohub.org.nz
SUMMARY:MOUNT MAUNGANUI GUIDED BIKE TOUR
DESCRIPTION:A relaxed ride that takes in the sights and cycle infrastructure of Mount Maunganui\, with a complimentary coffee to finish. \nCheck out some cool spots and get familiar with the Marine Parade Coastal Path\, Arataki\, and Totara Street. \nAs well as being a lot of fun\, the event focuses on how to ride effectively and safely in a group setting. E-Bikers welcome. Suitable for intermediate to experienced riders. \nFor more information contact Buddy Meyer buddy.meyer@tauranga.govt.nz or 021360480. \nFollow Travel Safe on Facebook \n 
URL:https://envirohub.org.nz/event/mount-maunganui-guided-bike-tour/
LOCATION:Mount Hub\, 9 Prince Avenue\, Mount Maunganui
ATTACH;FMTTYPE=image/png:https://envirohub.org.nz/wp-content/uploads/2024/01/Website-Events-Template-10.png
END:VEVENT
END:VCALENDAR