BEGIN:VCALENDAR
VERSION:2.0
PRODID:-//EnviroHub Bay of Plenty - ECPv6.15.14//NONSGML v1.0//EN
CALSCALE:GREGORIAN
METHOD:PUBLISH
X-WR-CALNAME:EnviroHub Bay of Plenty
X-ORIGINAL-URL:https://envirohub.org.nz
X-WR-CALDESC:Events for EnviroHub Bay of Plenty
REFRESH-INTERVAL;VALUE=DURATION:PT1H
X-Robots-Tag:noindex
X-PUBLISHED-TTL:PT1H
BEGIN:VTIMEZONE
TZID:Pacific/Auckland
BEGIN:STANDARD
TZOFFSETFROM:+1300
TZOFFSETTO:+1200
TZNAME:NZST
DTSTART:20230401T140000
END:STANDARD
BEGIN:DAYLIGHT
TZOFFSETFROM:+1200
TZOFFSETTO:+1300
TZNAME:NZDT
DTSTART:20230923T140000
END:DAYLIGHT
BEGIN:STANDARD
TZOFFSETFROM:+1300
TZOFFSETTO:+1200
TZNAME:NZST
DTSTART:20240406T140000
END:STANDARD
BEGIN:DAYLIGHT
TZOFFSETFROM:+1200
TZOFFSETTO:+1300
TZNAME:NZDT
DTSTART:20240928T140000
END:DAYLIGHT
BEGIN:STANDARD
TZOFFSETFROM:+1300
TZOFFSETTO:+1200
TZNAME:NZST
DTSTART:20250405T140000
END:STANDARD
BEGIN:DAYLIGHT
TZOFFSETFROM:+1200
TZOFFSETTO:+1300
TZNAME:NZDT
DTSTART:20250927T140000
END:DAYLIGHT
END:VTIMEZONE
BEGIN:VEVENT
DTSTART;TZID=Pacific/Auckland:20240507T180000
DTEND;TZID=Pacific/Auckland:20240507T200000
DTSTAMP:20260421T011125
CREATED:20240423T013234Z
LAST-MODIFIED:20240423T013234Z
UID:12402-1715104800-1715112000@envirohub.org.nz
SUMMARY:Mount Maunganui Food Lovers Masterclass
DESCRIPTION:Kiwi households throw out an average of over $1\,500 worth of food every year. Come along to Kate Fenwick’s\, Food Lovers Masterclass to discover the top 10 Wasted Foods in NZ\, and why food is still being wasted even though the price of food is skyrocketing!\nWhy join us? You will:\nLEARN the ‘what\, why\, and how’ we waste our valuable food.GATHER useful tips\, tricks and life hacks to help you reduce your food waste.ADVANCE your food storage skills\, general food knowledge and be inspired.\nIf you find yourself throwing out foods that you never got around to eating\, the composter is overflowing\, or the dogs getting slightly chunkier\, then this session is a must to attend! We guarantee you will have plenty of ‘facepalm’ moments but also take home some new knowledge.\nWhat’s in the goodie bag? Check out the picture for an example of what you get to take home. Please note\, the products in our goodie bags are subject to change as we work with a heap of different companies to fill them.\nThis workshop is suitable for all households\, flats\, ages\, and stages – everyone will learn something
URL:https://envirohub.org.nz/event/mount-maunganui-food-lovers-masterclass/
LOCATION:Arataki Community Centre\, 1 Zambuk Way Mount Maunganui 3116\, Tauranga
ATTACH;FMTTYPE=image/png:https://envirohub.org.nz/wp-content/uploads/2024/04/Website-Events-Template-35.png
END:VEVENT
END:VCALENDAR