BEGIN:VCALENDAR
VERSION:2.0
PRODID:-//EnviroHub Bay of Plenty - ECPv6.15.20//NONSGML v1.0//EN
CALSCALE:GREGORIAN
METHOD:PUBLISH
X-WR-CALNAME:EnviroHub Bay of Plenty
X-ORIGINAL-URL:https://envirohub.org.nz
X-WR-CALDESC:Events for EnviroHub Bay of Plenty
REFRESH-INTERVAL;VALUE=DURATION:PT1H
X-Robots-Tag:noindex
X-PUBLISHED-TTL:PT1H
BEGIN:VTIMEZONE
TZID:Pacific/Auckland
BEGIN:STANDARD
TZOFFSETFROM:+1300
TZOFFSETTO:+1200
TZNAME:NZST
DTSTART:20240406T140000
END:STANDARD
BEGIN:DAYLIGHT
TZOFFSETFROM:+1200
TZOFFSETTO:+1300
TZNAME:NZDT
DTSTART:20240928T140000
END:DAYLIGHT
BEGIN:STANDARD
TZOFFSETFROM:+1300
TZOFFSETTO:+1200
TZNAME:NZST
DTSTART:20250405T140000
END:STANDARD
BEGIN:DAYLIGHT
TZOFFSETFROM:+1200
TZOFFSETTO:+1300
TZNAME:NZDT
DTSTART:20250927T140000
END:DAYLIGHT
BEGIN:STANDARD
TZOFFSETFROM:+1300
TZOFFSETTO:+1200
TZNAME:NZST
DTSTART:20260404T140000
END:STANDARD
BEGIN:DAYLIGHT
TZOFFSETFROM:+1200
TZOFFSETTO:+1300
TZNAME:NZDT
DTSTART:20260926T140000
END:DAYLIGHT
END:VTIMEZONE
BEGIN:VEVENT
DTSTART;TZID=Pacific/Auckland:20251003T100000
DTEND;TZID=Pacific/Auckland:20251003T103000
DTSTAMP:20260426T104114
CREATED:20250820T011840Z
LAST-MODIFIED:20250826T003010Z
UID:18742-1759485600-1759487400@envirohub.org.nz
SUMMARY:Mindful Mending - Young at Heart Festival
DESCRIPTION:As part of the Young at Heart – Village Vibes fun day\, Join us for a morning of hands-on workshops where older volunteers share their sewing and mending skills with the next generation. \nLearn how to repair and refresh your favourite garments with guidance from skilled volunteers\, preserving skills that aren’t widely known today. Bring one item to repair. \n\n Date and time \n\n\n\n\n\nFri 03 Oct 2025           10:00am – 10:30am \n\n\n\n\n\n\nFri 03 Oct 2025           11:00am – 11:30am \n\n\n\n\n\n\nFri 03 Oct 2025           12:00pm – 12:30pm \n\n\n\n\n\n Location \n\nThe Historic Village \nCreative Community Campus \n17th Ave West\, Tauranga South\, Tauranga 3112 \nOpen in Google Maps\n\n\n\n Pricing \n\n\n\nFree
URL:https://envirohub.org.nz/event/mindful-mending-young-at-heart-festival/
LOCATION:The Historic Village\, 17th Ave West\, Tauranga\, Bay of Plenty\, 3112\, New Zealand
CATEGORIES:Young at Heart
ATTACH;FMTTYPE=image/png:https://envirohub.org.nz/wp-content/uploads/2025/08/Mindful-mending.png
END:VEVENT
END:VCALENDAR