BEGIN:VCALENDAR
VERSION:2.0
PRODID:-//EnviroHub Bay of Plenty - ECPv6.15.14//NONSGML v1.0//EN
CALSCALE:GREGORIAN
METHOD:PUBLISH
X-WR-CALNAME:EnviroHub Bay of Plenty
X-ORIGINAL-URL:https://envirohub.org.nz
X-WR-CALDESC:Events for EnviroHub Bay of Plenty
REFRESH-INTERVAL;VALUE=DURATION:PT1H
X-Robots-Tag:noindex
X-PUBLISHED-TTL:PT1H
BEGIN:VTIMEZONE
TZID:Pacific/Auckland
BEGIN:STANDARD
TZOFFSETFROM:+1300
TZOFFSETTO:+1200
TZNAME:NZST
DTSTART:20220402T140000
END:STANDARD
BEGIN:DAYLIGHT
TZOFFSETFROM:+1200
TZOFFSETTO:+1300
TZNAME:NZDT
DTSTART:20220924T140000
END:DAYLIGHT
BEGIN:STANDARD
TZOFFSETFROM:+1300
TZOFFSETTO:+1200
TZNAME:NZST
DTSTART:20230401T140000
END:STANDARD
BEGIN:DAYLIGHT
TZOFFSETFROM:+1200
TZOFFSETTO:+1300
TZNAME:NZDT
DTSTART:20230923T140000
END:DAYLIGHT
BEGIN:STANDARD
TZOFFSETFROM:+1300
TZOFFSETTO:+1200
TZNAME:NZST
DTSTART:20240406T140000
END:STANDARD
BEGIN:DAYLIGHT
TZOFFSETFROM:+1200
TZOFFSETTO:+1300
TZNAME:NZDT
DTSTART:20240928T140000
END:DAYLIGHT
END:VTIMEZONE
BEGIN:VEVENT
DTSTART;TZID=Pacific/Auckland:20231120T180000
DTEND;TZID=Pacific/Auckland:20231120T191500
DTSTAMP:20260423T043258
CREATED:20231116T004946Z
LAST-MODIFIED:20231116T004946Z
UID:10602-1700503200-1700507700@envirohub.org.nz
SUMMARY:Manta Watch Short Film Screening with Q&A session
DESCRIPTION:Manta Watch – Discovering Aotearoa’s Gentle Giants\nUnbeknown to the majority of kiwis\, our waters are home to one of the most spectacular\, yet elusive of ocean giants – the oceanic manta ray!\nJam packed with phenomenal footage and featuring interviews with the core research team\, “Manta Watch” beautifully introduces Aotearoa’s oceanic manta rays\, the problems they face and the people committed to studying and protecting them. Heavily centered around community collaboration and knowledge exchange\, this exclusive screening series is an opportunity to celebrate and raise awareness about these highly intelligent\, globally endangered\, gentle giants. \n*Manta Watch is a short film offering – 25 minutes in duration.\n*This event includes a post screening Q&A session with Manta Watch NZ Founder Lydia Green.\n*Event proceeds directly fund ongoing manta ray research and conservation projects. \nWHERE: WhakaMax Movies\, 99 The Strand\, Whakatane 3120  \n\nWHEN: Nov 20\, 2023\, 6:00 PM – 7:15 PM
URL:https://envirohub.org.nz/event/manta-watch-short-film-screening-with-qa-session/
LOCATION:WhakaMax Movies\, 99 The Strand\, Whakatane\, 3120\, New Zealand
ORGANIZER;CN="Manta Watch NZ Charitable Trust":MAILTO:mantawatchnewzealand@gmail.com
END:VEVENT
END:VCALENDAR