BEGIN:VCALENDAR
VERSION:2.0
PRODID:-//EnviroHub Bay of Plenty - ECPv6.15.20//NONSGML v1.0//EN
CALSCALE:GREGORIAN
METHOD:PUBLISH
X-WR-CALNAME:EnviroHub Bay of Plenty
X-ORIGINAL-URL:https://envirohub.org.nz
X-WR-CALDESC:Events for EnviroHub Bay of Plenty
REFRESH-INTERVAL;VALUE=DURATION:PT1H
X-Robots-Tag:noindex
X-PUBLISHED-TTL:PT1H
BEGIN:VTIMEZONE
TZID:Pacific/Auckland
BEGIN:STANDARD
TZOFFSETFROM:+1300
TZOFFSETTO:+1200
TZNAME:NZST
DTSTART:20240406T140000
END:STANDARD
BEGIN:DAYLIGHT
TZOFFSETFROM:+1200
TZOFFSETTO:+1300
TZNAME:NZDT
DTSTART:20240928T140000
END:DAYLIGHT
BEGIN:STANDARD
TZOFFSETFROM:+1300
TZOFFSETTO:+1200
TZNAME:NZST
DTSTART:20250405T140000
END:STANDARD
BEGIN:DAYLIGHT
TZOFFSETFROM:+1200
TZOFFSETTO:+1300
TZNAME:NZDT
DTSTART:20250927T140000
END:DAYLIGHT
BEGIN:STANDARD
TZOFFSETFROM:+1300
TZOFFSETTO:+1200
TZNAME:NZST
DTSTART:20260404T140000
END:STANDARD
BEGIN:DAYLIGHT
TZOFFSETFROM:+1200
TZOFFSETTO:+1300
TZNAME:NZDT
DTSTART:20260926T140000
END:DAYLIGHT
END:VTIMEZONE
BEGIN:VEVENT
DTSTART;TZID=Pacific/Auckland:20250903T173000
DTEND;TZID=Pacific/Auckland:20250903T203000
DTSTAMP:20260426T084742
CREATED:20250807T053342Z
LAST-MODIFIED:20250807T054047Z
UID:18579-1756920600-1756931400@envirohub.org.nz
SUMMARY:Lets Get Batty
DESCRIPTION:What? Join us for a fun evening Getting Batty! This event is language inclusive – we will be sharing in Maori and NZSL as well as English. Part of Conservation Week 2025. \nFirst we’ll have a Kōrero from local expert Steve Goodin \n\nLearn about Aotearoa’s native Pekapeka species\, our local bats and how we can best protect them.\n\nThen we’ll Upcycle waste materials to make a 3D pekapeka \n\nUse your newly acquired knowledge and get creative! Make your own pekapeka from materials that we provide\, with other bat enthusiasts and artists creating alongside. Once we’ve completed our 3D batty creations we can hang them as a public art display in the trees outside the Arts Village\, or you can take them home.\n\nWho: Adults and children 10 years and up (under 13 must be supervised) \nWhere: Studio 2 The Arts Village\, Rotorua \nWhen: Wednesday 3rd September 2025\, 5.30pm – 8.30pm \nLight refreshments provided \n—— \nAccessibility – We want everyone to feel welcome at our events\, if you have any physical\, sensory\, or other accessibility needs\, please contact us ahead of time so we can support you. \nPhotography – Please note that photographs and videos may be taken at our events and used on our social media and website. If you or your children do not wish to be photographed\, just let a staff member or volunteer know when you arrive. \nTransport – To minimise environmental impact\, we encourage walking\, biking\, carpooling\, or using public transport to attend. Please note that some venues may have limited parking available. \nEnvirohub Events – If you want to find more sustainability focused events run by Envirohub in your neighbourhood\, head over to our Facebook page for more info or Humanitix to grab a ticket.
URL:https://envirohub.org.nz/event/lets-get-batty/
LOCATION:The Arts Village\, 1240 Hinemaru Street\, Rotorua\, 3010\, New Zealand
CATEGORIES:Sustainable Backyards Bitesize
ATTACH;FMTTYPE=image/png:https://envirohub.org.nz/wp-content/uploads/2025/08/Lets-Get-Batty-.png
ORGANIZER;CN="Envirohub":MAILTO:admin@envirohub.org.nz
END:VEVENT
END:VCALENDAR