BEGIN:VCALENDAR
VERSION:2.0
PRODID:-//EnviroHub Bay of Plenty - ECPv6.15.20//NONSGML v1.0//EN
CALSCALE:GREGORIAN
METHOD:PUBLISH
X-WR-CALNAME:EnviroHub Bay of Plenty
X-ORIGINAL-URL:https://envirohub.org.nz
X-WR-CALDESC:Events for EnviroHub Bay of Plenty
REFRESH-INTERVAL;VALUE=DURATION:PT1H
X-Robots-Tag:noindex
X-PUBLISHED-TTL:PT1H
BEGIN:VTIMEZONE
TZID:Pacific/Auckland
BEGIN:STANDARD
TZOFFSETFROM:+1300
TZOFFSETTO:+1200
TZNAME:NZST
DTSTART:20220402T140000
END:STANDARD
BEGIN:DAYLIGHT
TZOFFSETFROM:+1200
TZOFFSETTO:+1300
TZNAME:NZDT
DTSTART:20220924T140000
END:DAYLIGHT
BEGIN:STANDARD
TZOFFSETFROM:+1300
TZOFFSETTO:+1200
TZNAME:NZST
DTSTART:20230401T140000
END:STANDARD
BEGIN:DAYLIGHT
TZOFFSETFROM:+1200
TZOFFSETTO:+1300
TZNAME:NZDT
DTSTART:20230923T140000
END:DAYLIGHT
BEGIN:STANDARD
TZOFFSETFROM:+1300
TZOFFSETTO:+1200
TZNAME:NZST
DTSTART:20240406T140000
END:STANDARD
BEGIN:DAYLIGHT
TZOFFSETFROM:+1200
TZOFFSETTO:+1300
TZNAME:NZDT
DTSTART:20240928T140000
END:DAYLIGHT
END:VTIMEZONE
BEGIN:VEVENT
DTSTART;TZID=Pacific/Auckland:20230306T000000
DTEND;TZID=Pacific/Auckland:20230306T000000
DTSTAMP:20260426T053047
CREATED:20230306T003410Z
LAST-MODIFIED:20230306T003410Z
UID:7923-1678060800-1678060800@envirohub.org.nz
SUMMARY:Learn how you can take action on climate change
DESCRIPTION:Join us to learn about climate change\, the challenges it poses and the actions we can take to combat it. In this two hour session Wymond Symes from Tadpole will talk about the gases that contribute to climate change and what produces them. He will discuss the various physical\, social and financial impacts climate change has on people\, businesses and the community. \nPresentation content \no What is Climate Change \no What is causing it \no What is its impact globally \no What is its impact in NZ \n§ Direct impacts – caused by weather \n§ Indirect impacts of legislation\, carbon “taxes”\, mandatory reporting \no What is NZ doing about it \no What is Bay of Plenty as a region doing about it \no What can we do in our personal lives to reduce our impact \nAbout your presentor – Tadpole \nAt Tadpole\, we care about people\, the planet and improving business outcomes. As sustainable transformation specialists\, we engage stakeholders to develop robust action plans and build brands through effective engagement – all backed by science. We are a strong blend of expert knowledge and business acumen and aspire to be a leading sustainability practice that is known for providing high end service\, increasing the positive impact of our clients and providing lifetime value. \nWhether you want to measure your carbon footprint or have the topic of sustainability demystified\, Tadpole can help.
URL:https://envirohub.org.nz/event/learn-how-you-can-take-action-on-climate-change/
CATEGORIES:Sustainable Backyards
END:VEVENT
END:VCALENDAR