BEGIN:VCALENDAR
VERSION:2.0
PRODID:-//EnviroHub Bay of Plenty - ECPv6.15.20//NONSGML v1.0//EN
CALSCALE:GREGORIAN
METHOD:PUBLISH
X-WR-CALNAME:EnviroHub Bay of Plenty
X-ORIGINAL-URL:https://envirohub.org.nz
X-WR-CALDESC:Events for EnviroHub Bay of Plenty
REFRESH-INTERVAL;VALUE=DURATION:PT1H
X-Robots-Tag:noindex
X-PUBLISHED-TTL:PT1H
BEGIN:VTIMEZONE
TZID:Pacific/Auckland
BEGIN:STANDARD
TZOFFSETFROM:+1300
TZOFFSETTO:+1200
TZNAME:NZST
DTSTART:20230401T140000
END:STANDARD
BEGIN:DAYLIGHT
TZOFFSETFROM:+1200
TZOFFSETTO:+1300
TZNAME:NZDT
DTSTART:20230923T140000
END:DAYLIGHT
BEGIN:STANDARD
TZOFFSETFROM:+1300
TZOFFSETTO:+1200
TZNAME:NZST
DTSTART:20240406T140000
END:STANDARD
BEGIN:DAYLIGHT
TZOFFSETFROM:+1200
TZOFFSETTO:+1300
TZNAME:NZDT
DTSTART:20240928T140000
END:DAYLIGHT
BEGIN:STANDARD
TZOFFSETFROM:+1300
TZOFFSETTO:+1200
TZNAME:NZST
DTSTART:20250405T140000
END:STANDARD
BEGIN:DAYLIGHT
TZOFFSETFROM:+1200
TZOFFSETTO:+1300
TZNAME:NZDT
DTSTART:20250927T140000
END:DAYLIGHT
END:VTIMEZONE
BEGIN:VEVENT
DTSTART;TZID=Pacific/Auckland:20240317T100000
DTEND;TZID=Pacific/Auckland:20240317T113000
DTSTAMP:20260426T145513
CREATED:20240206T232214Z
LAST-MODIFIED:20240206T232214Z
UID:11347-1710669600-1710675000@envirohub.org.nz
SUMMARY:Kids Hydroponics Workshop
DESCRIPTION:Children aged 8-12 are invited to attend a free fun interactive workshop to learn the basics of Hydroponics and growing their own food. Hosted by the Tauranga City Council water team and Envirohub BOP.\n\nWhen: 10:00am\, Sunday\, March 17th\nWhere: Envirohub BOP\, 31B Glasgow Street\, Tauranga\, 3110\nTickets: This is a FREE event to attend. REGISTRATIONS ARE ESSENTIAL. Register here: https://events.humanitix.com/kids-hydroponics-workshop
URL:https://envirohub.org.nz/event/kids-hydroponics-workshop/
LOCATION:Envirohub BOP\, 31B Glasgow Street\, Tauranga\, 3110\, New Zealand
CATEGORIES:Sustainable Backyards
ATTACH;FMTTYPE=image/png:https://envirohub.org.nz/wp-content/uploads/2024/02/SBY-Event-Submissions-88.png
END:VEVENT
END:VCALENDAR