BEGIN:VCALENDAR
VERSION:2.0
PRODID:-//EnviroHub Bay of Plenty - ECPv6.15.20//NONSGML v1.0//EN
CALSCALE:GREGORIAN
METHOD:PUBLISH
X-WR-CALNAME:EnviroHub Bay of Plenty
X-ORIGINAL-URL:https://envirohub.org.nz
X-WR-CALDESC:Events for EnviroHub Bay of Plenty
REFRESH-INTERVAL;VALUE=DURATION:PT1H
X-Robots-Tag:noindex
X-PUBLISHED-TTL:PT1H
BEGIN:VTIMEZONE
TZID:Pacific/Auckland
BEGIN:STANDARD
TZOFFSETFROM:+1300
TZOFFSETTO:+1200
TZNAME:NZST
DTSTART:20240406T140000
END:STANDARD
BEGIN:DAYLIGHT
TZOFFSETFROM:+1200
TZOFFSETTO:+1300
TZNAME:NZDT
DTSTART:20240928T140000
END:DAYLIGHT
BEGIN:STANDARD
TZOFFSETFROM:+1300
TZOFFSETTO:+1200
TZNAME:NZST
DTSTART:20250405T140000
END:STANDARD
BEGIN:DAYLIGHT
TZOFFSETFROM:+1200
TZOFFSETTO:+1300
TZNAME:NZDT
DTSTART:20250927T140000
END:DAYLIGHT
BEGIN:STANDARD
TZOFFSETFROM:+1300
TZOFFSETTO:+1200
TZNAME:NZST
DTSTART:20260404T140000
END:STANDARD
BEGIN:DAYLIGHT
TZOFFSETFROM:+1200
TZOFFSETTO:+1300
TZNAME:NZDT
DTSTART:20260926T140000
END:DAYLIGHT
END:VTIMEZONE
BEGIN:VEVENT
DTSTART;TZID=Pacific/Auckland:20250612T190000
DTEND;TZID=Pacific/Auckland:20250612T210000
DTSTAMP:20260426T091432
CREATED:20250309T232028Z
LAST-MODIFIED:20250316T215602Z
UID:16367-1749754800-1749762000@envirohub.org.nz
SUMMARY:Herbal Dyes - Tauranga Herb Society
DESCRIPTION:Come along and find out about Herbal Dyes \nWesley Church Hall \nFor more information: tgaherbsoc@gmail.com for more information
URL:https://envirohub.org.nz/event/herbal-dyes-tauranga-herb-society/
LOCATION:Wesley Church Hall\, 100\, Thirteenth Avenue\, Tauranga\, 3110\, New Zealand
ATTACH;FMTTYPE=image/png:https://envirohub.org.nz/wp-content/uploads/2025/03/Repair-festival-30.png
ORGANIZER;CN="Tauranga Herb Society":MAILTO:gaherbsoc@gmail.com
END:VEVENT
END:VCALENDAR