BEGIN:VCALENDAR
VERSION:2.0
PRODID:-//EnviroHub Bay of Plenty - ECPv6.15.20//NONSGML v1.0//EN
CALSCALE:GREGORIAN
METHOD:PUBLISH
X-WR-CALNAME:EnviroHub Bay of Plenty
X-ORIGINAL-URL:https://envirohub.org.nz
X-WR-CALDESC:Events for EnviroHub Bay of Plenty
REFRESH-INTERVAL;VALUE=DURATION:PT1H
X-Robots-Tag:noindex
X-PUBLISHED-TTL:PT1H
BEGIN:VTIMEZONE
TZID:Pacific/Auckland
BEGIN:STANDARD
TZOFFSETFROM:+1300
TZOFFSETTO:+1200
TZNAME:NZST
DTSTART:20240406T140000
END:STANDARD
BEGIN:DAYLIGHT
TZOFFSETFROM:+1200
TZOFFSETTO:+1300
TZNAME:NZDT
DTSTART:20240928T140000
END:DAYLIGHT
BEGIN:STANDARD
TZOFFSETFROM:+1300
TZOFFSETTO:+1200
TZNAME:NZST
DTSTART:20250405T140000
END:STANDARD
BEGIN:DAYLIGHT
TZOFFSETFROM:+1200
TZOFFSETTO:+1300
TZNAME:NZDT
DTSTART:20250927T140000
END:DAYLIGHT
BEGIN:STANDARD
TZOFFSETFROM:+1300
TZOFFSETTO:+1200
TZNAME:NZST
DTSTART:20260404T140000
END:STANDARD
BEGIN:DAYLIGHT
TZOFFSETFROM:+1200
TZOFFSETTO:+1300
TZNAME:NZDT
DTSTART:20260926T140000
END:DAYLIGHT
END:VTIMEZONE
BEGIN:VEVENT
DTSTART;TZID=Pacific/Auckland:20250910T173000
DTEND;TZID=Pacific/Auckland:20250910T193000
DTSTAMP:20260426T102437
CREATED:20250813T042406Z
LAST-MODIFIED:20250813T042406Z
UID:18637-1757525400-1757532600@envirohub.org.nz
SUMMARY:Healing Our Waters
DESCRIPTION:As part of the region-wide “Footprints for Our Future” project hosted by the Rotary Bay of Plenty Community Group during the week 8–14 September “Healing our Waters” is a powerful evening of inspiring stories. \nWe will hear from three  highly respected speakers . They will cover the state of our waterways (including our watershed streams\, rivers\, lakes and estuaries)\, the science behind restoration\, and the practical steps communities can take to protect and regenerate them. \nThe venue is the University of Waikato – Tauranga Campus and entry will be by pre-purchased ticket only (tickets available at events.humanitix.com/healing-our-waters). Our speakers are: \nKeynote speaker Dr Mike Joy is a prominent freshwater ecologist and science communicator currently at the Institute for Governance and Policy Studies at Victoria University of Wellington. He has been publicly outspoken about the decline in freshwater quality and ecosystems\, especially the impact of nutrient pollution from intensive dairying. This has led to awards from scientific organisations\, as well as criticism from the dairy industry. Recently he published a memoir “The Fight for Freshwater”. \nProfessor Chris Battershill leads Coastal Science at the University of Waikato. His main interests include coastal marine ecology and aquaculture. He leads a major research program examining the effects of land runoff on coastal reef systems\, on food webs linking land and sea productivity and on resilience in a changing climate. \nJohn Burke is an adviser for two major catchment environmental restoration projects. Project Parore covers seven catchments at the northern Tauranga Moana. The large Wai Kōkopu catchment is near Pukehina. He has an agri-business background and owns the environmental award-winning Pukekauri Farm\, near Katikati. \nMore information at: https://www.footprintsforourfuture.org.nz/
URL:https://envirohub.org.nz/event/healing-our-waters/
LOCATION:University of Waikato – Tauranga Campus\, 101 Durham Street\, Tauranga\, 3110\, New Zealand
ATTACH;FMTTYPE=image/png:https://envirohub.org.nz/wp-content/uploads/2025/08/healing-our-waters.png
ORGANIZER;CN="Omokoroa Rotorary":MAILTO:omokoroarotary@gmail.com
END:VEVENT
END:VCALENDAR