BEGIN:VCALENDAR
VERSION:2.0
PRODID:-//EnviroHub Bay of Plenty - ECPv6.15.20//NONSGML v1.0//EN
CALSCALE:GREGORIAN
METHOD:PUBLISH
X-WR-CALNAME:EnviroHub Bay of Plenty
X-ORIGINAL-URL:https://envirohub.org.nz
X-WR-CALDESC:Events for EnviroHub Bay of Plenty
REFRESH-INTERVAL;VALUE=DURATION:PT1H
X-Robots-Tag:noindex
X-PUBLISHED-TTL:PT1H
BEGIN:VTIMEZONE
TZID:Pacific/Auckland
BEGIN:STANDARD
TZOFFSETFROM:+1300
TZOFFSETTO:+1200
TZNAME:NZST
DTSTART:20240406T140000
END:STANDARD
BEGIN:DAYLIGHT
TZOFFSETFROM:+1200
TZOFFSETTO:+1300
TZNAME:NZDT
DTSTART:20240928T140000
END:DAYLIGHT
BEGIN:STANDARD
TZOFFSETFROM:+1300
TZOFFSETTO:+1200
TZNAME:NZST
DTSTART:20250405T140000
END:STANDARD
BEGIN:DAYLIGHT
TZOFFSETFROM:+1200
TZOFFSETTO:+1300
TZNAME:NZDT
DTSTART:20250927T140000
END:DAYLIGHT
BEGIN:STANDARD
TZOFFSETFROM:+1300
TZOFFSETTO:+1200
TZNAME:NZST
DTSTART:20260404T140000
END:STANDARD
BEGIN:DAYLIGHT
TZOFFSETFROM:+1200
TZOFFSETTO:+1300
TZNAME:NZDT
DTSTART:20260926T140000
END:DAYLIGHT
END:VTIMEZONE
BEGIN:VEVENT
DTSTART;TZID=Pacific/Auckland:20250531T110000
DTEND;TZID=Pacific/Auckland:20250531T150000
DTSTAMP:20260426T161219
CREATED:20250423T004043Z
LAST-MODIFIED:20250423T004426Z
UID:16962-1748689200-1748703600@envirohub.org.nz
SUMMARY:Greerton Retro Fest
DESCRIPTION:Greerton’s getting groovy.Dust off your flares\, tease up that beehive\, and join us for the very first Greerton Retro Fest – a one-day celebration of all things vintage\, thrifted\, and fabulous.\nExpect a full day of retro-fuelled fun including: A thrift shop treasure hunt with prizes Live music and street entertainment A vintage fashion show Vinyl\, collectibles\, and curated vintage market stalls Spot competitions and giveaways Themed café specials and delicious local eats Photobooth and surprises around every corner\nWhether you’re a secondhand style queen\, a vintage vinyl collector\, or just here for the vibes – this is your excuse to shop\, explore\, dress up and get amongst it.\nFree entry | Family friendly | Everyone welcomeFollow the event for updates\, sneak peeks and ways to get involved!
URL:https://envirohub.org.nz/event/greerton-retro-fest/
LOCATION:Greerton Village\, Chadwick Road\, Tauranga\, 3112
ATTACH;FMTTYPE=image/png:https://envirohub.org.nz/wp-content/uploads/2025/04/Thrift-Shop-Ball-1.png
ORGANIZER;CN="Greerton Business Association":MAILTO:greertonvillage@gmail.com
END:VEVENT
END:VCALENDAR