BEGIN:VCALENDAR
VERSION:2.0
PRODID:-//EnviroHub Bay of Plenty - ECPv6.15.20//NONSGML v1.0//EN
CALSCALE:GREGORIAN
METHOD:PUBLISH
X-WR-CALNAME:EnviroHub Bay of Plenty
X-ORIGINAL-URL:https://envirohub.org.nz
X-WR-CALDESC:Events for EnviroHub Bay of Plenty
REFRESH-INTERVAL;VALUE=DURATION:PT1H
X-Robots-Tag:noindex
X-PUBLISHED-TTL:PT1H
BEGIN:VTIMEZONE
TZID:Pacific/Auckland
BEGIN:STANDARD
TZOFFSETFROM:+1300
TZOFFSETTO:+1200
TZNAME:NZST
DTSTART:20240406T140000
END:STANDARD
BEGIN:DAYLIGHT
TZOFFSETFROM:+1200
TZOFFSETTO:+1300
TZNAME:NZDT
DTSTART:20240928T140000
END:DAYLIGHT
BEGIN:STANDARD
TZOFFSETFROM:+1300
TZOFFSETTO:+1200
TZNAME:NZST
DTSTART:20250405T140000
END:STANDARD
BEGIN:DAYLIGHT
TZOFFSETFROM:+1200
TZOFFSETTO:+1300
TZNAME:NZDT
DTSTART:20250927T140000
END:DAYLIGHT
BEGIN:STANDARD
TZOFFSETFROM:+1300
TZOFFSETTO:+1200
TZNAME:NZST
DTSTART:20260404T140000
END:STANDARD
BEGIN:DAYLIGHT
TZOFFSETFROM:+1200
TZOFFSETTO:+1300
TZNAME:NZDT
DTSTART:20260926T140000
END:DAYLIGHT
END:VTIMEZONE
BEGIN:VEVENT
DTSTART;TZID=Pacific/Auckland:20251024T080000
DTEND;TZID=Pacific/Auckland:20251027T170000
DTSTAMP:20260426T105856
CREATED:20250717T003416Z
LAST-MODIFIED:20250717T003416Z
UID:18219-1761292800-1761584400@envirohub.org.nz
SUMMARY:Great Southern BioBlitz
DESCRIPTION:From 24–27 October 2025\, towns\, cities\, and regions across the Southern Hemisphere are coming together to explore the wild species living around us. This project is the place to see New Zealanders’ observations from all our regions.
URL:https://envirohub.org.nz/event/great-southern-bioblitz/
LOCATION:Online\, New Zealand
ATTACH;FMTTYPE=image/png:https://envirohub.org.nz/wp-content/uploads/2025/07/Great-Southern-BioBlitz-Website.png
END:VEVENT
END:VCALENDAR