BEGIN:VCALENDAR
VERSION:2.0
PRODID:-//EnviroHub Bay of Plenty - ECPv6.15.14//NONSGML v1.0//EN
CALSCALE:GREGORIAN
METHOD:PUBLISH
X-WR-CALNAME:EnviroHub Bay of Plenty
X-ORIGINAL-URL:https://envirohub.org.nz
X-WR-CALDESC:Events for EnviroHub Bay of Plenty
REFRESH-INTERVAL;VALUE=DURATION:PT1H
X-Robots-Tag:noindex
X-PUBLISHED-TTL:PT1H
BEGIN:VTIMEZONE
TZID:Pacific/Auckland
BEGIN:STANDARD
TZOFFSETFROM:+1300
TZOFFSETTO:+1200
TZNAME:NZST
DTSTART:20230401T140000
END:STANDARD
BEGIN:DAYLIGHT
TZOFFSETFROM:+1200
TZOFFSETTO:+1300
TZNAME:NZDT
DTSTART:20230923T140000
END:DAYLIGHT
BEGIN:STANDARD
TZOFFSETFROM:+1300
TZOFFSETTO:+1200
TZNAME:NZST
DTSTART:20240406T140000
END:STANDARD
BEGIN:DAYLIGHT
TZOFFSETFROM:+1200
TZOFFSETTO:+1300
TZNAME:NZDT
DTSTART:20240928T140000
END:DAYLIGHT
BEGIN:STANDARD
TZOFFSETFROM:+1300
TZOFFSETTO:+1200
TZNAME:NZST
DTSTART:20250405T140000
END:STANDARD
BEGIN:DAYLIGHT
TZOFFSETFROM:+1200
TZOFFSETTO:+1300
TZNAME:NZDT
DTSTART:20250927T140000
END:DAYLIGHT
END:VTIMEZONE
BEGIN:VEVENT
DTSTART;TZID=Pacific/Auckland:20240306T064500
DTEND;TZID=Pacific/Auckland:20240306T090000
DTSTAMP:20260420T211937
CREATED:20240202T021622Z
LAST-MODIFIED:20240206T205919Z
UID:11292-1709707500-1709715600@envirohub.org.nz
SUMMARY:Go By Bike Day
DESCRIPTION:Go By Bike Day is back encouraging people to swap their car trips for a bike and discover the benefits of safe cycling. Riders can stop at one of the six pitstops around Tauranga for snacks and giveaways.\n\nCheck out www.mytauranga.co.nz/time-to-cycle for more information.\n\nWhen: From 6:45am\, Wednesday\, March 6th.\nWhere: Around Tauranga\nThis is a FREE event to attend\, registrations are not required
URL:https://envirohub.org.nz/event/go-by-bike-day/
CATEGORIES:Sustainable Backyards
ATTACH;FMTTYPE=image/png:https://envirohub.org.nz/wp-content/uploads/2024/02/Website-Events-Template-3.png
END:VEVENT
END:VCALENDAR