BEGIN:VCALENDAR
VERSION:2.0
PRODID:-//EnviroHub Bay of Plenty - ECPv6.15.20//NONSGML v1.0//EN
CALSCALE:GREGORIAN
METHOD:PUBLISH
X-WR-CALNAME:EnviroHub Bay of Plenty
X-ORIGINAL-URL:https://envirohub.org.nz
X-WR-CALDESC:Events for EnviroHub Bay of Plenty
REFRESH-INTERVAL;VALUE=DURATION:PT1H
X-Robots-Tag:noindex
X-PUBLISHED-TTL:PT1H
BEGIN:VTIMEZONE
TZID:Pacific/Auckland
BEGIN:STANDARD
TZOFFSETFROM:+1300
TZOFFSETTO:+1200
TZNAME:NZST
DTSTART:20220402T140000
END:STANDARD
BEGIN:DAYLIGHT
TZOFFSETFROM:+1200
TZOFFSETTO:+1300
TZNAME:NZDT
DTSTART:20220924T140000
END:DAYLIGHT
BEGIN:STANDARD
TZOFFSETFROM:+1300
TZOFFSETTO:+1200
TZNAME:NZST
DTSTART:20230401T140000
END:STANDARD
BEGIN:DAYLIGHT
TZOFFSETFROM:+1200
TZOFFSETTO:+1300
TZNAME:NZDT
DTSTART:20230923T140000
END:DAYLIGHT
BEGIN:STANDARD
TZOFFSETFROM:+1300
TZOFFSETTO:+1200
TZNAME:NZST
DTSTART:20240406T140000
END:STANDARD
BEGIN:DAYLIGHT
TZOFFSETFROM:+1200
TZOFFSETTO:+1300
TZNAME:NZDT
DTSTART:20240928T140000
END:DAYLIGHT
END:VTIMEZONE
BEGIN:VEVENT
DTSTART;TZID=Pacific/Auckland:20230810T180000
DTEND;TZID=Pacific/Auckland:20230810T200000
DTSTAMP:20260423T124459
CREATED:20230706T003903Z
LAST-MODIFIED:20230706T003903Z
UID:9142-1691690400-1691697600@envirohub.org.nz
SUMMARY:Food Lovers Master Class with Kate Meads - Waihi Beach
DESCRIPTION:Where? – Waihi Beach Community Hall \nWhen? – Thursday 10th August 2023\, 6:00pm-8:00pm \nTicket price – $17\, get a Goodie Bag worth $60 (Check out the pic to see what you can get!)\n\nCome along and learn about why we waste food and how to stop it.  There will be a few face-palm moments and lots of laughs as Kate takes you through the reasons we waste food and what we can do about it.  This is a fun but informative session and you will leave inspired with a cool goodie bag full of samples to get you started.\n\nAs seen on Eat Well for Less\, Kate is an expert on waste reduction of over 15+ years and will give you real-world tips and tricks to implement.\n\nMore info: \nWhat’s in the goodie bag? – Check out the picture for an example of what you get to take home. Note; the products in our packs are subject to change as we work with heaps of different awesome companies to put them together.
URL:https://envirohub.org.nz/event/food-lovers-master-class-with-kate-meads-waihi-beach/
LOCATION:Waihi Beach Community Hall
ORGANIZER;CN="Wastefree Kate":MAILTO:kate@katemeads.co.nz
END:VEVENT
END:VCALENDAR