BEGIN:VCALENDAR
VERSION:2.0
PRODID:-//EnviroHub Bay of Plenty - ECPv6.15.14//NONSGML v1.0//EN
CALSCALE:GREGORIAN
METHOD:PUBLISH
X-WR-CALNAME:EnviroHub Bay of Plenty
X-ORIGINAL-URL:https://envirohub.org.nz
X-WR-CALDESC:Events for EnviroHub Bay of Plenty
REFRESH-INTERVAL;VALUE=DURATION:PT1H
X-Robots-Tag:noindex
X-PUBLISHED-TTL:PT1H
BEGIN:VTIMEZONE
TZID:Pacific/Auckland
BEGIN:STANDARD
TZOFFSETFROM:+1300
TZOFFSETTO:+1200
TZNAME:NZST
DTSTART:20230401T140000
END:STANDARD
BEGIN:DAYLIGHT
TZOFFSETFROM:+1200
TZOFFSETTO:+1300
TZNAME:NZDT
DTSTART:20230923T140000
END:DAYLIGHT
BEGIN:STANDARD
TZOFFSETFROM:+1300
TZOFFSETTO:+1200
TZNAME:NZST
DTSTART:20240406T140000
END:STANDARD
BEGIN:DAYLIGHT
TZOFFSETFROM:+1200
TZOFFSETTO:+1300
TZNAME:NZDT
DTSTART:20240928T140000
END:DAYLIGHT
BEGIN:STANDARD
TZOFFSETFROM:+1300
TZOFFSETTO:+1200
TZNAME:NZST
DTSTART:20250405T140000
END:STANDARD
BEGIN:DAYLIGHT
TZOFFSETFROM:+1200
TZOFFSETTO:+1300
TZNAME:NZDT
DTSTART:20250927T140000
END:DAYLIGHT
END:VTIMEZONE
BEGIN:VEVENT
DTSTART;TZID=Pacific/Auckland:20240319T160000
DTEND;TZID=Pacific/Auckland:20240319T180000
DTSTAMP:20260422T140520
CREATED:20240220T205747Z
LAST-MODIFIED:20240220T205747Z
UID:11600-1710864000-1710871200@envirohub.org.nz
SUMMARY:EVolocity Launch Day
DESCRIPTION:WHAT IS EVOLOCITY \nEVs are fun. They are fast. They are the future. \nEVolocity is a hands-on programme where school-age teams design\, build then race electric vehicles. EVolocity encourages innovation and students experience sustainable engineering\, electronics and programming\, welding\, CAD design and fabrication – while gaining real-world skills in teamwork\, project management and communication. Check out our website for more info. \nLAUNCH DAY 2024 \nLaunch Days are hosted at the start of each year for EVolocity teams\, and anyone wanting to check out what the programme’s all about: \nMeet the EVolocity team and learn how the EVolocity program works\nLearn how to get started designing and building your own electric race vehicle\nCheck out an electric racekart built by one of our past teams\nThe event is free to attend and you’ll be able to chat with our EVolocity team. Please register to book your place: https://events.humanitix.com/evolocity-launch-day-eastern-bop \nWhere: Whakatane High School \n 
URL:https://envirohub.org.nz/event/evolocity-launch-day/
LOCATION:Whakatane High School\, Private Bag 1021 Goulstone Road\, New Zealand\, Whakatāne\, 3120\, New Zealand
CATEGORIES:Sustainable Backyards
ATTACH;FMTTYPE=image/png:https://envirohub.org.nz/wp-content/uploads/2024/02/SBY-Event-Submissions-18.png
END:VEVENT
END:VCALENDAR