BEGIN:VCALENDAR
VERSION:2.0
PRODID:-//EnviroHub Bay of Plenty - ECPv6.15.14//NONSGML v1.0//EN
CALSCALE:GREGORIAN
METHOD:PUBLISH
X-WR-CALNAME:EnviroHub Bay of Plenty
X-ORIGINAL-URL:https://envirohub.org.nz
X-WR-CALDESC:Events for EnviroHub Bay of Plenty
REFRESH-INTERVAL;VALUE=DURATION:PT1H
X-Robots-Tag:noindex
X-PUBLISHED-TTL:PT1H
BEGIN:VTIMEZONE
TZID:Pacific/Auckland
BEGIN:STANDARD
TZOFFSETFROM:+1300
TZOFFSETTO:+1200
TZNAME:NZST
DTSTART:20230401T140000
END:STANDARD
BEGIN:DAYLIGHT
TZOFFSETFROM:+1200
TZOFFSETTO:+1300
TZNAME:NZDT
DTSTART:20230923T140000
END:DAYLIGHT
BEGIN:STANDARD
TZOFFSETFROM:+1300
TZOFFSETTO:+1200
TZNAME:NZST
DTSTART:20240406T140000
END:STANDARD
BEGIN:DAYLIGHT
TZOFFSETFROM:+1200
TZOFFSETTO:+1300
TZNAME:NZDT
DTSTART:20240928T140000
END:DAYLIGHT
BEGIN:STANDARD
TZOFFSETFROM:+1300
TZOFFSETTO:+1200
TZNAME:NZST
DTSTART:20250405T140000
END:STANDARD
BEGIN:DAYLIGHT
TZOFFSETFROM:+1200
TZOFFSETTO:+1300
TZNAME:NZDT
DTSTART:20250927T140000
END:DAYLIGHT
END:VTIMEZONE
BEGIN:VEVENT
DTSTART;TZID=Pacific/Auckland:20240319T183000
DTEND;TZID=Pacific/Auckland:20240319T200000
DTSTAMP:20260420T215329
CREATED:20240212T005325Z
LAST-MODIFIED:20240315T015355Z
UID:11487-1710873000-1710878400@envirohub.org.nz
SUMMARY:Envirohub Clothing Swap & Pizza Night
DESCRIPTION:Gather some friends and join us for a clothing swap. Bring along 5 items to swap. You’ll be given tokens on arrival to swap for something else. Your clothing items MUST be clean & in good condition ready for their new home. Your ticket allows us to provide you with pizza before the swap.\n\nWhen: 6:30pm\, Tuesday\, March 19th\nWhere: Te Rūnganga Tea Rooms\, Queens Drive\, Rotorua\, 3010.\nTickets: Koha entry\, includes pizza. REGISTRATIONS ARE ESSENTIAL. register here: https://events.humanitix.com/envirohub-clothing-swap-and…
URL:https://envirohub.org.nz/event/envirohub-clothing-swap-pizza-night/
LOCATION:Te Runanga Tea House
CATEGORIES:Sustainable Backyards
ATTACH;FMTTYPE=image/png:https://envirohub.org.nz/wp-content/uploads/2024/02/Website-Events-Template-7-1.png
ORGANIZER;CN="Envirohub":MAILTO:admin@envirohub.org.nz
END:VEVENT
END:VCALENDAR