BEGIN:VCALENDAR
VERSION:2.0
PRODID:-//EnviroHub Bay of Plenty - ECPv6.15.20//NONSGML v1.0//EN
CALSCALE:GREGORIAN
METHOD:PUBLISH
X-WR-CALNAME:EnviroHub Bay of Plenty
X-ORIGINAL-URL:https://envirohub.org.nz
X-WR-CALDESC:Events for EnviroHub Bay of Plenty
REFRESH-INTERVAL;VALUE=DURATION:PT1H
X-Robots-Tag:noindex
X-PUBLISHED-TTL:PT1H
BEGIN:VTIMEZONE
TZID:Pacific/Auckland
BEGIN:STANDARD
TZOFFSETFROM:+1300
TZOFFSETTO:+1200
TZNAME:NZST
DTSTART:20230401T140000
END:STANDARD
BEGIN:DAYLIGHT
TZOFFSETFROM:+1200
TZOFFSETTO:+1300
TZNAME:NZDT
DTSTART:20230923T140000
END:DAYLIGHT
BEGIN:STANDARD
TZOFFSETFROM:+1300
TZOFFSETTO:+1200
TZNAME:NZST
DTSTART:20240406T140000
END:STANDARD
BEGIN:DAYLIGHT
TZOFFSETFROM:+1200
TZOFFSETTO:+1300
TZNAME:NZDT
DTSTART:20240928T140000
END:DAYLIGHT
BEGIN:STANDARD
TZOFFSETFROM:+1300
TZOFFSETTO:+1200
TZNAME:NZST
DTSTART:20250405T140000
END:STANDARD
BEGIN:DAYLIGHT
TZOFFSETFROM:+1200
TZOFFSETTO:+1300
TZNAME:NZDT
DTSTART:20250927T140000
END:DAYLIGHT
END:VTIMEZONE
BEGIN:VEVENT
DTSTART;TZID=Pacific/Auckland:20240225T093000
DTEND;TZID=Pacific/Auckland:20240225T130000
DTSTAMP:20260426T082318
CREATED:20231122T003706Z
LAST-MODIFIED:20231122T003706Z
UID:10694-1708853400-1708866000@envirohub.org.nz
SUMMARY:Edible Backyard Safari - Grow on Katikati
DESCRIPTION:Sunday 25th February 2024 9.30am- 1pm \nTickets cost $65 – early bird $55 before 1st Jan \nThis is an opportunity to be inspired.  Gather hints\, tips and ideas for your own garden.   Come together in the Community and join us on a safari adventure in Katikati.  The hope is for you to be empowered to create your own journey toward backyard food. \nTo book your space please email Jess on membersgrowonkatikati@gmail.com
URL:https://envirohub.org.nz/event/edible-backyard-safari-grow-on-katikati/
LOCATION:Grow on Katikati\, 21 Main Road\,\, Katikati\, New Zealand
ORGANIZER;CN="Grow on Katikati":MAILTO:grownonkatikati@gmail.com
END:VEVENT
END:VCALENDAR