BEGIN:VCALENDAR
VERSION:2.0
PRODID:-//EnviroHub Bay of Plenty - ECPv6.15.20//NONSGML v1.0//EN
CALSCALE:GREGORIAN
METHOD:PUBLISH
X-WR-CALNAME:EnviroHub Bay of Plenty
X-ORIGINAL-URL:https://envirohub.org.nz
X-WR-CALDESC:Events for EnviroHub Bay of Plenty
REFRESH-INTERVAL;VALUE=DURATION:PT1H
X-Robots-Tag:noindex
X-PUBLISHED-TTL:PT1H
BEGIN:VTIMEZONE
TZID:Pacific/Auckland
BEGIN:STANDARD
TZOFFSETFROM:+1300
TZOFFSETTO:+1200
TZNAME:NZST
DTSTART:20250405T140000
END:STANDARD
BEGIN:DAYLIGHT
TZOFFSETFROM:+1200
TZOFFSETTO:+1300
TZNAME:NZDT
DTSTART:20250927T140000
END:DAYLIGHT
BEGIN:STANDARD
TZOFFSETFROM:+1300
TZOFFSETTO:+1200
TZNAME:NZST
DTSTART:20260404T140000
END:STANDARD
BEGIN:DAYLIGHT
TZOFFSETFROM:+1200
TZOFFSETTO:+1300
TZNAME:NZDT
DTSTART:20260926T140000
END:DAYLIGHT
BEGIN:STANDARD
TZOFFSETFROM:+1300
TZOFFSETTO:+1200
TZNAME:NZST
DTSTART:20270403T140000
END:STANDARD
BEGIN:DAYLIGHT
TZOFFSETFROM:+1200
TZOFFSETTO:+1300
TZNAME:NZDT
DTSTART:20270925T140000
END:DAYLIGHT
END:VTIMEZONE
BEGIN:VEVENT
DTSTART;TZID=Pacific/Auckland:20260314T100000
DTEND;TZID=Pacific/Auckland:20260314T130000
DTSTAMP:20260425T225637
CREATED:20251218T012137Z
LAST-MODIFIED:20260305T025508Z
UID:21165-1773482400-1773493200@envirohub.org.nz
SUMMARY:Community Garden Festival Day - Tauranga & Western BOP
DESCRIPTION:Join us as community gardens across the Bay of Plenty\, Whakatane & Rotorua open their gates for a celebration of local growing\, learning\, and connection. Explore one garden or make a day of it\, by visiting several. Each space is bursting with hands-on workshops\, gardening advice\, produce and seedlings\, ready to inspire your next growing project.\nEach garden is different\, expect a mixture of activities including everything from seed bomb making to kids’ scavenger hunts\, live food demos\, tea making sessions\, food forest tours\, Q&A sessions with seasoned growers\, and garden-made refreshments.\nThis day is all about celebrating the vital role community gardens play in creating a sustainable future through growing food\, sharing knowledge\, and nurturing connection. Whether you’re an experienced gardener\, a curious beginner\, or just looking for a day out checking out all the lovely gardens\, you’ll find something to dig into.\nCome see how local gardens are blooming with ideas\, community spirit\, and kai resilience and be part of the movement for a stronger\, greener region.\nEntry and activities are FREE!\n\nNgāti Kahu Māra Kai \n69 Carmichael Road\, Bethlehem\, Tauranga \nFacebook \nMerivale Community Garden \n1 Alverstoke Road\, Parkvale\, Tauranga \nFacebook \nOtūmoetai Railway Community Garden \n516 Otūmoetai Road\, Matua\, Tauranga \nFacebook \nThe Rock Papamoa Community Garden  \n51C Hartford Avenue\, Papamoa Beach\, Papamoa \nFacebook \nGiggles Childcare Centre Te Puke \nCnr Commerce Lane and King St\, Te Puke \nKai Rotorua \n540 Kaharoa Road\, Hamurana\, Rotorua \nWebsite \nLinton Park Community Centre \n16 Kamahi Place\, Pukehangi\, Rotorua \nWebsite
URL:https://envirohub.org.nz/event/community-garden-festival-day-2026/
CATEGORIES:Sustainable Backyards
ATTACH;FMTTYPE=image/png:https://envirohub.org.nz/wp-content/uploads/2025/12/SBY-26-TGA-Community-Garden-Festival-Day.png
ORGANIZER;CN="Envirohub":MAILTO:admin@envirohub.org.nz
END:VEVENT
END:VCALENDAR