BEGIN:VCALENDAR
VERSION:2.0
PRODID:-//EnviroHub Bay of Plenty - ECPv6.15.20//NONSGML v1.0//EN
CALSCALE:GREGORIAN
METHOD:PUBLISH
X-WR-CALNAME:EnviroHub Bay of Plenty
X-ORIGINAL-URL:https://envirohub.org.nz
X-WR-CALDESC:Events for EnviroHub Bay of Plenty
REFRESH-INTERVAL;VALUE=DURATION:PT1H
X-Robots-Tag:noindex
X-PUBLISHED-TTL:PT1H
BEGIN:VTIMEZONE
TZID:Pacific/Auckland
BEGIN:STANDARD
TZOFFSETFROM:+1300
TZOFFSETTO:+1200
TZNAME:NZST
DTSTART:20230401T140000
END:STANDARD
BEGIN:DAYLIGHT
TZOFFSETFROM:+1200
TZOFFSETTO:+1300
TZNAME:NZDT
DTSTART:20230923T140000
END:DAYLIGHT
BEGIN:STANDARD
TZOFFSETFROM:+1300
TZOFFSETTO:+1200
TZNAME:NZST
DTSTART:20240406T140000
END:STANDARD
BEGIN:DAYLIGHT
TZOFFSETFROM:+1200
TZOFFSETTO:+1300
TZNAME:NZDT
DTSTART:20240928T140000
END:DAYLIGHT
BEGIN:STANDARD
TZOFFSETFROM:+1300
TZOFFSETTO:+1200
TZNAME:NZST
DTSTART:20250405T140000
END:STANDARD
BEGIN:DAYLIGHT
TZOFFSETFROM:+1200
TZOFFSETTO:+1300
TZNAME:NZDT
DTSTART:20250927T140000
END:DAYLIGHT
END:VTIMEZONE
BEGIN:VEVENT
DTSTART;TZID=Pacific/Auckland:20241006T130000
DTEND;TZID=Pacific/Auckland:20241006T150000
DTSTAMP:20260423T100942
CREATED:20240929T222610Z
LAST-MODIFIED:20240929T224404Z
UID:14228-1728219600-1728226800@envirohub.org.nz
SUMMARY:Community Clean up - The Lakes Garbage Grab
DESCRIPTION:Join your local Lions Club Members to tidy up the Lakes Area \nMeet at Koikoi Reserve 1-3pm \nFree BBQ at Caslani Reserve  (Sausages donated by Pak n Save Tauriko) \nFor more information contact Helene Fowler 021 2229346
URL:https://envirohub.org.nz/event/community-clean-up-the-lakes-garbage-grab/
LOCATION:Koikoi Reserve\, The Lakes\, Tauriko\, 12 Double Bay Road\, Tauranga\, New Zealand
ATTACH;FMTTYPE=image/jpeg:https://envirohub.org.nz/wp-content/uploads/2024/09/Lakes-tidy-up.jpg
END:VEVENT
END:VCALENDAR