BEGIN:VCALENDAR
VERSION:2.0
PRODID:-//EnviroHub Bay of Plenty - ECPv6.15.20//NONSGML v1.0//EN
CALSCALE:GREGORIAN
METHOD:PUBLISH
X-WR-CALNAME:EnviroHub Bay of Plenty
X-ORIGINAL-URL:https://envirohub.org.nz
X-WR-CALDESC:Events for EnviroHub Bay of Plenty
REFRESH-INTERVAL;VALUE=DURATION:PT1H
X-Robots-Tag:noindex
X-PUBLISHED-TTL:PT1H
BEGIN:VTIMEZONE
TZID:Pacific/Auckland
BEGIN:STANDARD
TZOFFSETFROM:+1300
TZOFFSETTO:+1200
TZNAME:NZST
DTSTART:20230401T140000
END:STANDARD
BEGIN:DAYLIGHT
TZOFFSETFROM:+1200
TZOFFSETTO:+1300
TZNAME:NZDT
DTSTART:20230923T140000
END:DAYLIGHT
BEGIN:STANDARD
TZOFFSETFROM:+1300
TZOFFSETTO:+1200
TZNAME:NZST
DTSTART:20240406T140000
END:STANDARD
BEGIN:DAYLIGHT
TZOFFSETFROM:+1200
TZOFFSETTO:+1300
TZNAME:NZDT
DTSTART:20240928T140000
END:DAYLIGHT
BEGIN:STANDARD
TZOFFSETFROM:+1300
TZOFFSETTO:+1200
TZNAME:NZST
DTSTART:20250405T140000
END:STANDARD
BEGIN:DAYLIGHT
TZOFFSETFROM:+1200
TZOFFSETTO:+1300
TZNAME:NZDT
DTSTART:20250927T140000
END:DAYLIGHT
END:VTIMEZONE
BEGIN:VEVENT
DTSTART;TZID=Pacific/Auckland:20240317T100000
DTEND;TZID=Pacific/Auckland:20240317T130000
DTSTAMP:20260426T144827
CREATED:20240201T005852Z
LAST-MODIFIED:20240209T012207Z
UID:11264-1710669600-1710680400@envirohub.org.nz
SUMMARY:Build Your Own Bug Hotel
DESCRIPTION:Come along and make your very own wooden Bug Hotel to take home (1 bug hotel per ticket).\n\nUrban gardens are often very tidy and clear of all the stuff insects like to make their home in. Bug Hotels provide a small corner of shelter for insects and also help increase biodiversity.\nSuitable for ages 10+.\n\nPlease bring your own hammer\, screwdriver and/or electric drill if you can.\n\nEvery Bug hotel being made will require an adult to assist in the making.\n\nWhere: Giggles Te Puke Early Learning Centre.\nCorner Commerce Lane and King Street\,\nTe Puke\nWhen: 10:00am\, Sunday\, March 17th\nTickets: $15 https://events.humanitix.com/build-your-own-bug-hotel-9c9267mj
URL:https://envirohub.org.nz/event/build-your-own-bug-hotel/
LOCATION:Giggles Te Puke Early Learning Centre\,  Corner Commerce Lane and King Street\, Te Puke\, 3119\, New Zealand
CATEGORIES:Sustainable Backyards
ATTACH;FMTTYPE=image/png:https://envirohub.org.nz/wp-content/uploads/2024/02/Website-Events-Template-1.png
ORGANIZER;CN="Envirohub":MAILTO:admin@envirohub.org.nz
END:VEVENT
END:VCALENDAR