BEGIN:VCALENDAR
VERSION:2.0
PRODID:-//EnviroHub Bay of Plenty - ECPv6.15.14//NONSGML v1.0//EN
CALSCALE:GREGORIAN
METHOD:PUBLISH
X-WR-CALNAME:EnviroHub Bay of Plenty
X-ORIGINAL-URL:https://envirohub.org.nz
X-WR-CALDESC:Events for EnviroHub Bay of Plenty
REFRESH-INTERVAL;VALUE=DURATION:PT1H
X-Robots-Tag:noindex
X-PUBLISHED-TTL:PT1H
BEGIN:VTIMEZONE
TZID:Pacific/Auckland
BEGIN:STANDARD
TZOFFSETFROM:+1300
TZOFFSETTO:+1200
TZNAME:NZST
DTSTART:20220402T140000
END:STANDARD
BEGIN:DAYLIGHT
TZOFFSETFROM:+1200
TZOFFSETTO:+1300
TZNAME:NZDT
DTSTART:20220924T140000
END:DAYLIGHT
BEGIN:STANDARD
TZOFFSETFROM:+1300
TZOFFSETTO:+1200
TZNAME:NZST
DTSTART:20230401T140000
END:STANDARD
BEGIN:DAYLIGHT
TZOFFSETFROM:+1200
TZOFFSETTO:+1300
TZNAME:NZDT
DTSTART:20230923T140000
END:DAYLIGHT
BEGIN:STANDARD
TZOFFSETFROM:+1300
TZOFFSETTO:+1200
TZNAME:NZST
DTSTART:20240406T140000
END:STANDARD
BEGIN:DAYLIGHT
TZOFFSETFROM:+1200
TZOFFSETTO:+1300
TZNAME:NZDT
DTSTART:20240928T140000
END:DAYLIGHT
END:VTIMEZONE
BEGIN:VEVENT
DTSTART;TZID=Pacific/Auckland:20230301T080000
DTEND;TZID=Pacific/Auckland:20230331T170000
DTSTAMP:20260421T224658
CREATED:20230227T215719Z
LAST-MODIFIED:20230227T215719Z
UID:7673-1677657600-1680282000@envirohub.org.nz
SUMMARY:A Sustainable Pantry - WIN A Bin Inn Voucher!
DESCRIPTION:Have a go at ‘Bulk Bin’ shopping this month and go in the draw to win a Bin Inn Voucher! \nWhy? Because shopping at bulk food stores reduces your food waste and packaging waste!\nThere are many local stores to try in the Bay of Plenty: \nBin Inn – https://www.bininn.co.nz/\nThe Source Bulk Foods – https://thesourcebulkfoods.co.nz/\nThe Sustainable Pantry – https://thesustainablepantry.co.nz/\nWhakatāne Organics – https://www.facebook.com/whakataneorganics/ \nDon’t forget to enter our competition ✨🎉
URL:https://envirohub.org.nz/event/a-sustainable-pantry-win-a-bin-inn-voucher/
CATEGORIES:Sustainable Backyards
END:VEVENT
END:VCALENDAR