BEGIN:VCALENDAR
VERSION:2.0
PRODID:-//EnviroHub Bay of Plenty - ECPv6.15.20//NONSGML v1.0//EN
CALSCALE:GREGORIAN
METHOD:PUBLISH
X-WR-CALNAME:EnviroHub Bay of Plenty
X-ORIGINAL-URL:https://envirohub.org.nz
X-WR-CALDESC:Events for EnviroHub Bay of Plenty
REFRESH-INTERVAL;VALUE=DURATION:PT1H
X-Robots-Tag:noindex
X-PUBLISHED-TTL:PT1H
BEGIN:VTIMEZONE
TZID:Pacific/Auckland
BEGIN:STANDARD
TZOFFSETFROM:+1300
TZOFFSETTO:+1200
TZNAME:NZST
DTSTART:20210403T140000
END:STANDARD
BEGIN:DAYLIGHT
TZOFFSETFROM:+1200
TZOFFSETTO:+1300
TZNAME:NZDT
DTSTART:20210925T140000
END:DAYLIGHT
BEGIN:STANDARD
TZOFFSETFROM:+1300
TZOFFSETTO:+1200
TZNAME:NZST
DTSTART:20220402T140000
END:STANDARD
BEGIN:DAYLIGHT
TZOFFSETFROM:+1200
TZOFFSETTO:+1300
TZNAME:NZDT
DTSTART:20220924T140000
END:DAYLIGHT
BEGIN:STANDARD
TZOFFSETFROM:+1300
TZOFFSETTO:+1200
TZNAME:NZST
DTSTART:20230401T140000
END:STANDARD
BEGIN:DAYLIGHT
TZOFFSETFROM:+1200
TZOFFSETTO:+1300
TZNAME:NZDT
DTSTART:20230923T140000
END:DAYLIGHT
END:VTIMEZONE
BEGIN:VEVENT
DTSTART;TZID=Pacific/Auckland:20220922T100000
DTEND;TZID=Pacific/Auckland:20220922T140000
DTSTAMP:20260424T204240
CREATED:20220912T103456Z
LAST-MODIFIED:20220912T103456Z
UID:6397-1663840800-1663855200@envirohub.org.nz
SUMMARY:A Day out on Mauao with Forest & Bird
DESCRIPTION:Join Tauranga Forest & Bird for a field trip on Mauao. \n\nRegister Now\nPlease register your interest in this event so Forest and Bird can let you know of any cancellations\, postponements\, or updates. \nClick here to register \n\nThis is a great opportunity to learn about the history of our beloved mountain. Local historian and teacher\, Peter Scott will lead us around and to the summit of Mauao\, and we will stop for stories at many vantage points. \nMeet promptly at 10am in front of the Mount Maunganui Surf Lifesaving Club. \nBring lunch and drink\, walking shoes\, warm clothing and a sunhat. This is not a suitable walk for young children. \nRegistration is essential – see the link for online registration. Any enquires to Ann 021 177 2794.  You will be contacted if bad weather is expected and the walk will be postponed to the following Thursday\, 29 September.
URL:https://envirohub.org.nz/event/a-day-out-on-mauao-with-forest-bird/
LOCATION:Mount Maunganui
END:VEVENT
END:VCALENDAR