BEGIN:VCALENDAR
VERSION:2.0
PRODID:-//EnviroHub Bay of Plenty - ECPv6.15.20//NONSGML v1.0//EN
CALSCALE:GREGORIAN
METHOD:PUBLISH
X-WR-CALNAME:EnviroHub Bay of Plenty
X-ORIGINAL-URL:https://envirohub.org.nz
X-WR-CALDESC:Events for EnviroHub Bay of Plenty
REFRESH-INTERVAL;VALUE=DURATION:PT1H
X-Robots-Tag:noindex
X-PUBLISHED-TTL:PT1H
BEGIN:VTIMEZONE
TZID:Pacific/Auckland
BEGIN:STANDARD
TZOFFSETFROM:+1300
TZOFFSETTO:+1200
TZNAME:NZST
DTSTART:20220402T140000
END:STANDARD
BEGIN:DAYLIGHT
TZOFFSETFROM:+1200
TZOFFSETTO:+1300
TZNAME:NZDT
DTSTART:20220924T140000
END:DAYLIGHT
BEGIN:STANDARD
TZOFFSETFROM:+1300
TZOFFSETTO:+1200
TZNAME:NZST
DTSTART:20230401T140000
END:STANDARD
BEGIN:DAYLIGHT
TZOFFSETFROM:+1200
TZOFFSETTO:+1300
TZNAME:NZDT
DTSTART:20230923T140000
END:DAYLIGHT
BEGIN:STANDARD
TZOFFSETFROM:+1300
TZOFFSETTO:+1200
TZNAME:NZST
DTSTART:20240406T140000
END:STANDARD
BEGIN:DAYLIGHT
TZOFFSETFROM:+1200
TZOFFSETTO:+1300
TZNAME:NZDT
DTSTART:20240928T140000
END:DAYLIGHT
END:VTIMEZONE
BEGIN:VEVENT
DTSTART;TZID=Pacific/Auckland:20230910T170000
DTEND;TZID=Pacific/Auckland:20230910T190000
DTSTAMP:20260426T035036
CREATED:20230821T025218Z
LAST-MODIFIED:20230831T003339Z
UID:9588-1694365200-1694372400@envirohub.org.nz
SUMMARY:'2040' Movie Screening - Waihi Beach
DESCRIPTION:Come down to the Waihi Beach Lifeguard Services Inc for a screening of the film ‘2040’\, in celebration of Tauranga and Western Bay’s first Climate Action Festival! \nThere will also be delicious vegan canapes available which come with the purchase of your ticket. \nWhere: Waihi Beach Lifeguard Services Inc\, Main Beach\, 2 Beach Road\, Waihi Beach\, 3611. \nWhen: 5:00pm\, September 10th\, 2023 \nTickets are $5 and include vegan canapes through out the film. \nPurchase tickets via the below link: \nhttps://events.humanitix.com/2040-movie-screening-at-waihi-beach?_ga=2.46734951.1771504378.1692490164-984769543.1682633909 \nFilm synopsis: \nAward-winning director Damon Gameau (That Sugar Film) embarks on a journey to explore what the future could look like by the year 2040 if we simply embraced the best solutions already available to us to improve our planet and shifted them rapidly into the mainstream. Structured as a visual letter to his 4-year-old daughter\, Damon blends traditional documentary with dramatised sequences and high-end visual effects to create a vision board of how these solutions could regenerate the world for future generations. \nHead to https://envirohub.org.nz/ for more Climate Action Festival events.
URL:https://envirohub.org.nz/event/2040-movie-screening-waihi/
LOCATION:Waihi Beach Lifeguard Services Incorporated\, 2 Beach Road\, Waihi\, 3611\, New Zealand
CATEGORIES:Climate Action Festival
ORGANIZER;CN="Envirohub":MAILTO:admin@envirohub.org.nz
END:VEVENT
END:VCALENDAR