BEGIN:VCALENDAR
VERSION:2.0
PRODID:-//EnviroHub Bay of Plenty - ECPv6.15.14//NONSGML v1.0//EN
CALSCALE:GREGORIAN
METHOD:PUBLISH
X-WR-CALNAME:EnviroHub Bay of Plenty
X-ORIGINAL-URL:https://envirohub.org.nz
X-WR-CALDESC:Events for EnviroHub Bay of Plenty
REFRESH-INTERVAL;VALUE=DURATION:PT1H
X-Robots-Tag:noindex
X-PUBLISHED-TTL:PT1H
BEGIN:VTIMEZONE
TZID:Pacific/Auckland
BEGIN:STANDARD
TZOFFSETFROM:+1300
TZOFFSETTO:+1200
TZNAME:NZST
DTSTART:20220402T140000
END:STANDARD
BEGIN:DAYLIGHT
TZOFFSETFROM:+1200
TZOFFSETTO:+1300
TZNAME:NZDT
DTSTART:20220924T140000
END:DAYLIGHT
BEGIN:STANDARD
TZOFFSETFROM:+1300
TZOFFSETTO:+1200
TZNAME:NZST
DTSTART:20230401T140000
END:STANDARD
BEGIN:DAYLIGHT
TZOFFSETFROM:+1200
TZOFFSETTO:+1300
TZNAME:NZDT
DTSTART:20230923T140000
END:DAYLIGHT
BEGIN:STANDARD
TZOFFSETFROM:+1300
TZOFFSETTO:+1200
TZNAME:NZST
DTSTART:20240406T140000
END:STANDARD
BEGIN:DAYLIGHT
TZOFFSETFROM:+1200
TZOFFSETTO:+1300
TZNAME:NZDT
DTSTART:20240928T140000
END:DAYLIGHT
END:VTIMEZONE
BEGIN:VEVENT
DTSTART;TZID=Pacific/Auckland:20230911T180000
DTEND;TZID=Pacific/Auckland:20230911T200000
DTSTAMP:20260421T204533
CREATED:20230821T025717Z
LAST-MODIFIED:20230829T222454Z
UID:9592-1694455200-1694462400@envirohub.org.nz
SUMMARY:'2040' Movie Screening - Katikati
DESCRIPTION:Come down to The Arts Junction Theatre for a screening of the film ‘2040’\, in celebration of Tauranga and Western bay’s first Climate Action Festival! \nThis is a FREE event\, with drinks and popcorn provided. \nReserve your spot via the below link: \nhttps://events.humanitix.com/2040-movie-screening-katikati?_ga=2.18608889.1771504378.1692490164-984769543.1682633909 \nWhere: The Arts Junction\, 36 Main Road\, Katikati\, Bay of Plenty\, 3129. \nWhen: 6:00pm\, Monday\, September 11th\, 2023 \nFilm synopsis: \nAward-winning director Damon Gameau (That Sugar Film) embarks on a journey to explore what the future could look like by the year 2040 if we simply embraced the best solutions already available to us to improve our planet and shifted them rapidly into the mainstream. Structured as a visual letter to his 4-year-old daughter\, Damon blends traditional documentary with dramatised sequences and high-end visual effects to create a vision board of how these solutions could regenerate the world for future generations. \n  \nHead to https://envirohub.org.nz/ to see other events taking place during Tauranga & Western Bay’s Climate Action Festival
URL:https://envirohub.org.nz/event/2040-movie-screening-katikati/
LOCATION:The Arts Junction\, 36 Main Road\, Katikati\, New Zealand
CATEGORIES:Climate Action Festival
ORGANIZER;CN="Envirohub":MAILTO:admin@envirohub.org.nz
END:VEVENT
END:VCALENDAR